BEGIN:VCALENDAR
VERSION:2.0
PRODID:-//AgendaBulle//https://agendabulle.fr//
BEGIN:VEVENT
SUMMARY:✨JUSKOUTIRA : Jeu de riposte anti-sexisme✨
DTSTART;TZID=Europe/Paris:20260423T183000
DTEND;TZID=Europe/Paris:20260423T203000
DTSTAMP:20260420T131839Z
UID:dfd2450881729ab2b6313072f71bb4e4@agendabulle.fr
DESCRIPTION:JUSKOUTIRA est un jeu de cartes qui permet de s’entrainer à
  trouver des réponses aux attaques sexistes\, que l’on soit une femme (
 potentielle cible) ou un homme (généralement spectateur).\n\nLe jeu perm
 et de se préparer concrètement aux situations\, et surtout de réfléchi
 r à la graduation des réponses. Il a été développé par Julie Sonzogn
 i et Patrice Bornard\, enseignant·es de l'IUT Annecy\, pour sensibiliser 
 au harcèlement en entreprise et aux situations de sexisme ordinaire de fa
 çon ludique\, réaliste et engagée.\nhttp://www.agendabulle.fr/event/202
 6/4/23/2346-juskoutira-jeu-de-riposte-anti-sexisme\nhttps://www.le-tamis.i
 nfo/evenement/juskoutira-jeu-de-riposte-anti-sexisme
LOCATION:La base\, 17 rue du Dauphiné\, Grenoble
NAME:✨JUSKOUTIRA : Jeu de riposte anti-sexisme✨
END:VEVENT
END:VCALENDAR
