BEGIN:VCALENDAR
VERSION:2.0
PRODID:-//AgendaBulle//https://agendabulle.fr//
BEGIN:VEVENT
SUMMARY:Inauguration Studio EPP?
DTSTART;TZID=Europe/Paris:20260423T170000
DTEND;TZID=Europe/Paris:20260423T190000
DTSTAMP:20260420T131839Z
UID:dd7a6e4cc8ee0853c1c2daa415786cf5@agendabulle.fr
DESCRIPTION:L'association Et pourquoi pas? ouvre à La Bifurk un nouveau l
 ieu de pratique artistique dédié au recueil de témoignages et à leur m
 ise en forme esthétique.\n\nL'inauguration aura lieu le jeudi 23/04 à pa
 rtir de 17h\n\n17h - 18h : temps réservé aux partenaires\n\n18h : visite
  du studio et des autres espaces de pratiques du bâtiment L'Annexe à La 
 Bifurk en présence des assos Point Barre Photo\, Languille\, Entropie.\n\
 n19h : Temps festif / Expos / Dj / Stands / Buvette et Restauration\n\nLe 
 Studio EPP? : Une fabrique de témoignages par l’Art à La Bifurk Atelie
 r d’expression sociale et artistique / Photo - Audio - Vidéo - Arts-pla
 stiques Un lieu tiers\, artistique et socio-culturel\, marqué par une dé
 marche d’éducation populaire qui considère que de nos vécus et de nos
  parcours se construisent des savoirs expérientiels pouvant contribuer à
  une organisation plus juste de notre société et dans laquelle chacun.e 
 a sa place.\nhttp://www.agendabulle.fr/event/2026/4/23/2344-inauguration-s
 tudio-epp\nhttps://www.le-tamis.info/evenement/inauguration-studio-epp
LOCATION:La Bifurk\, 2 rue Gustave Flaubert\, Grenoble\, France\, 38100\, 
 Grenoble
NAME:Inauguration Studio EPP?
END:VEVENT
END:VCALENDAR
