BEGIN:VCALENDAR
VERSION:2.0
PRODID:-//AgendaBulle//https://agendabulle.fr//
BEGIN:VEVENT
SUMMARY:Ciné débat Jeunesse\, Ukraine et Solidarité
DTSTART;TZID=Europe/Paris:20260423T203000
DTEND;TZID=Europe/Paris:20260423T223000
DTSTAMP:20260420T131838Z
UID:98dd73b04b2b53eea7d00818d6820dc1@agendabulle.fr
DESCRIPTION:Dans le cadre du programme européen Connect for Global Change
 \, Humacoop-Amel France\, association libano-grenobloise oeuvrant pour la 
 solidarité locale et internationale auprès des populations les plus vuln
 érables\, organise une soirée ciné-débat consacrée à la place des en
 fants dans le conflit en Ukraine. La soirée aura lieu le jeudi 23 avril 
 à 20h30 au cinéma le Club à Grenoble. Après la diffusion des courts m
 étrages\, aura lieu un temps d’échange et de discussion autour d’un 
 buffet. Entrée gratuite pour toutes et tous.\nhttp://www.agendabulle.fr/e
 vent/2026/4/23/2343-cine-debat-jeunesse-ukraine-et-solidarite\nhttps://www
 .le-tamis.info/evenement/cine-debat-jeunesse-ukraine-et-solidarite
IMAGE;VALUE=URI:http://www.agendabulle.fr/media/a44e9868-c625-417b-bb2e-1b
 4d775e75d6.jpg
LOCATION:Cinéma Le Club\, 9 BIS Rue du Phalanstère 38000 Grenoble\, Gren
 oble
NAME:Ciné débat Jeunesse\, Ukraine et Solidarité
END:VEVENT
END:VCALENDAR
