BEGIN:VCALENDAR
VERSION:2.0
PRODID:-//AgendaBulle//https://agendabulle.fr//
BEGIN:VEVENT
SUMMARY:Assemblée Générale de SOS Inceste Pour Revivre
DTSTART;TZID=Europe/Paris:20260423T183000
DTEND;TZID=Europe/Paris:20260423T203000
DTSTAMP:20260420T131837Z
UID:c13b14f503f6efc5ce48fd45775a5c34@agendabulle.fr
DESCRIPTION:✨À toutes les personnes curieuses\, adhérent·es\, partena
 ires et soutiens de l’association\,\n\nNous vous invitons à l’Assembl
 ée Générale de SOS Inceste pour REVIVRE \, qui se tiendra le jeudi 23 a
 vril 2026 à 18h30 à la Salle polyvalente Gali\, 39 rue André Rivoire \,
  38000 Grenoble.\n\nCette soirée se déroulera en deux temps.\n\n📋 Dan
 s un premier temps aura lieu l’Assemblée Générale de l’association\
 , avec :\n\nCe temps sera l’occasion de revenir sur les actions menées 
 au cours de l’année écoulée et d’échanger autour des perspectives 
 à venir.\n\n🎭 Dans un second temps\, l’atelier théâtre de l’asso
 ciation proposera un moment plus artistique et convivial pour prolonger le
 s échanges entre participant·es.\n\n🥗 La soirée se poursuivra autour
  d’un buffet.\nhttp://www.agendabulle.fr/event/2026/4/23/2309-assemblee-
 generale-de-sos-inceste-pour-revivre\nhttps://www.le-tamis.info/evenement/
 assemblee-generale-de-sos-inceste-pour-revivre
LOCATION:Salle polyvalente Gali\, 16 Chemin du Couvent\, Grenoble
NAME:Assemblée Générale de SOS Inceste Pour Revivre
END:VEVENT
END:VCALENDAR
