BEGIN:VCALENDAR
VERSION:2.0
PRODID:-//AgendaBulle//https://agendabulle.fr//
BEGIN:VEVENT
SUMMARY:Rubinho Antunes et invités
DTSTART;TZID=Europe/Paris:20260423T203000
DTEND;TZID=Europe/Paris:20260423T223000
DTSTAMP:20260420T024735Z
UID:139ed79411477e467733db0a0d3362d5@agendabulle.fr
DESCRIPTION:Jazz en trio exceptionnel... trompette\, piano\, percussions C
 haque morceau devient le théâtre d’un dialogue spontané où le lyrism
 e cuivré de Rubinho rencontre la finesse harmonique d'Alfio et la richess
 e texturale des percussions d'Adriano DD\n\nLe trompettiste Rubinho Antune
 s investit le Café des Arts pour un concert exceptionnel placé sous le s
 igne de l’exigence et de l’exploration. Pour ce rendez-vous\, il s'ent
 oure de complices de grand talent : le pianiste Alfio Origlio et le percus
 sionniste Adriano DD\; tous les trois pratiquent une virtuosité où la te
 chnique s’efface devant l’émotion\, une fluidité entre les racines p
 rofondes de la musique brésilienne et les structures ouvertes du jazz mod
 erne.\n\nAu Café des Arts\, la culture est ce par quoi nous devenons plus
  humains : il est question d'être et non d'avoir\, de silence et d'écout
 e\, du sens du beau\, de la richesse des échanges humains\, de donner et 
 de recevoir\, d'être solidaire. Le Café des Arts veut être une caisse d
 e résonance culturelle pour toute personne\, amateur ou professionnel\, q
 ui ose sa singularité dans un acte public et artistique\, dans lequel eng
 agement humain\, qualité relationnelle et qualité artistique sont indiss
 ociables.\nhttp://www.agendabulle.fr/event/2026/4/23/2286-rubinho-antunes-
 et-invites\nhttps://www.grenoble-tourisme.com/fr/decouvrir/evenements/agen
 da/detail/rubinho-antunes-et-invites-7726234/
IMAGE;VALUE=URI:http://www.agendabulle.fr/media/17353fef-8bc4-4512-bc02-f9
 8a6c43835e.jpg
LOCATION:Le Café des Arts\, 36 Rue Saint Laurent 38000 Grenoble\, Grenobl
 e
NAME:Rubinho Antunes et invités
END:VEVENT
END:VCALENDAR
