BEGIN:VCALENDAR
VERSION:2.0
PRODID:-//AgendaBulle//https://agendabulle.fr//
BEGIN:VEVENT
SUMMARY:Le Bal à facettes
DTSTART;TZID=Europe/Paris:20260423T200000
DTEND;TZID=Europe/Paris:20260423T220000
DTSTAMP:20260420T024735Z
UID:63cb59dacb63b12249801f4c5a3be7fd@agendabulle.fr
DESCRIPTION:La Compagnie vous invite sur le dancefloor à jouer avec les 
 époques\, et les styles. De Bruel à Piaf en passant par Aya Nakamura\, l
 es artistes se donnent pour mission de chanter en live des medleys improba
 bles.\n\nUne sorte de grande “géode à facettes” qui baigne la piste 
 de danse de lumières\, un DJ au centre\, et devant\, trois chanteurs éti
 ncelants qui\, entre deux morceaux\, vous suggèrent quelques mouvements b
 ien sentis\, et de la musique de Boum internationale dans laquelle se pres
 se et se percute TOUT le répertoire de la Chanson Française : bienvenue 
 dans le Bal à facettes ! La Compagnie vous invite sur le dancefloor à jo
 uer avec les époques\, et les styles. De Bruel à Piaf en passant par Aya
  Nakamura\, les artistes se donnent pour mission de chanter en live des me
 dleys improbables\, comme des petites madeleines qui viennent résonner et
  désinhiber les plus timides.\nhttp://www.agendabulle.fr/event/2026/4/23/
 2285-le-bal-a-facettes\nhttps://www.grenoble-tourisme.com/fr/decouvrir/eve
 nements/agenda/detail/le-bal-a-facettes-7774487/
IMAGE;VALUE=URI:http://www.agendabulle.fr/media/aa00511a-8490-4b25-955f-00
 d903be71e7.jpg
LOCATION:Espace Culturel Léo Lagrange\, 2 Pl. Georges Brassens\, 38320 Po
 isat\, Poisat
NAME:Le Bal à facettes
END:VEVENT
END:VCALENDAR
