BEGIN:VCALENDAR
VERSION:2.0
PRODID:-//AgendaBulle//https://agendabulle.fr//
BEGIN:VEVENT
SUMMARY:L'homme-poisson
DTSTART;TZID=Europe/Paris:20260423T200000
DTEND;TZID=Europe/Paris:20260423T220000
DTSTAMP:20260420T024735Z
UID:a6fbd9c8f8c98c664a42bbf4718582f9@agendabulle.fr
DESCRIPTION:Enfant\, David Wahl rêvait de devenir amphibie. Mêlant ses s
 onges aux dernières découvertes scientifiques\, ce spectacle nous invite
  à une exploration inattendue : serions-nous plus sirènes qu’on imagin
 e ?\n\nThéâtre | France\n\n« Prenez l’individu le plus distrait\, pla
 ntez-le sur ses jambes\, mettez-le en mouvement\, il vous conduira infaill
 iblement vers l’eau\, pour autant qu’il y en ait dans la région »\, 
 dit Melville dans Moby-Dick\, donnant ainsi à David Wahl\, l’envie d’
 une « plongée » poétique. Enfant\, il rêvait de devenir amphibie. Il 
 guettait la métamorphose\, cherchait un moyen de transformer ses jambes e
 n queue de poisson. Mêlant ces songes aux dernières découvertes scienti
 fiques\, ce spectacle nous invite à une exploration inattendue : serions-
 nous plus sirènes qu’on ne l'imagine ?\n\n--- Conception\, texte et int
 erprétation David Wahl ∙ Mise en scène Thomas Cloarec - Plasticien Jea
 n-Marie Appriou ∙ Scénographie\, manipulation Nadège Renard\nhttp://ww
 w.agendabulle.fr/event/2026/4/23/2284-lhomme-poisson\nhttps://www.grenoble
 -tourisme.com/fr/decouvrir/evenements/agenda/detail/l-homme-poisson-735318
 4/
IMAGE;VALUE=URI:http://www.agendabulle.fr/media/1f647ad3-0fba-406c-8fa2-92
 570f11adec.jpg
LOCATION:Hexagone Scène Nationale\, 24 rue des Aiguinards\, Meylan
NAME:L'homme-poisson
END:VEVENT
END:VCALENDAR
