BEGIN:VCALENDAR
VERSION:2.0
PRODID:-//AgendaBulle//https://agendabulle.fr//
BEGIN:VEVENT
SUMMARY:En cavale & Tralalas Lovers
DTSTART;TZID=Europe/Paris:20260423T203000
DTEND;TZID=Europe/Paris:20260423T223000
DTSTAMP:20260420T024735Z
UID:3a7b9907c6b8c125e0e12b117b36dc86@agendabulle.fr
DESCRIPTION:En cavale réuni six musiciens et chanteurs autour d’un mêm
 e élan : chanter ensemble avec joie et liberté ! Les Tralalas Lovers\, c
 ’est un bal explosif\, entre musiques populaires et créations originale
 s.\n\nEn cavale : Né d’une rencontre intense\, le groupe explore un ré
 pertoire original mêlant chants du monde et de compositions en bulgare\, 
 finnois\, italien\, ou encore hébreu. Une musique pleine d'énergies\, d
 ’harmonies mêlant des instruments singuliers comme le cistre\, le kaval
 \, la guimbarde. Un concert vibrant\, entre joie du collectif et émotions
  partagées.\n\nLes Tralalas Lovers : Accordéon\, violon\, banjo\, tambou
 rin : Vincent Gaffet et Diego Meymarian enchaînent scottishs\, valses et 
 polkas avec une énergie débordante. Leur univers acoustique\, joyeux et 
 malicieux mélange français\, créole\, italien ou rom. Une musique propi
 ce au voyage\, à la rencontre mais surtout… à la danse ! Avec : Mélis
 sa Zantman\, Vincent Westphal\, Diego Meymarian\, Vincent Gaffet\, Mathieu
  Cervera\, Nicolas Canavaggia\nhttp://www.agendabulle.fr/event/2026/4/23/2
 283-en-cavale-tralalas-lovers\nhttps://www.grenoble-tourisme.com/fr/decouv
 rir/evenements/agenda/detail/en-cavale-tralalas-lovers-7334530/
IMAGE;VALUE=URI:http://www.agendabulle.fr/media/b8c2f417-e85c-4cbc-8778-4a
 e934ac347f.jpg
LOCATION:Le Prisme\, 89 Av. de Grenoble\, 38180 Seyssins\, Seyssins
NAME:En cavale & Tralalas Lovers
END:VEVENT
END:VCALENDAR
