BEGIN:VCALENDAR
VERSION:2.0
PRODID:-//AgendaBulle//https://agendabulle.fr//
BEGIN:VEVENT
SUMMARY:Les ateliers des Habiles : l'habitat participatif
DTSTART;TZID=Europe/Paris:20260423T183000
DTEND;TZID=Europe/Paris:20260423T203000
DTSTAMP:20260420T023638Z
UID:05a8cda04c1816a5b081b94736b7f66a@agendabulle.fr
DESCRIPTION:Des ateliers pour échanger\, se rencontrer et se renseigner s
 ur l’habitat participatif. Chaque mois l'habitat participatif est abord
 é à partir d'un format et d'une thématique différente : retour d’exp
 érience de groupes en projet et/ou installés\, intervention d’expert-e
 s et de professionnel-les\, bourses aux projets\, temps de forum et d'anno
 nces\, etc. 6 Rue Berthe de Boissieux 38000 Grenoble Secteur 2 18H30/21H30
  et 17H30/21H30 pour la Bourse aux projets et l'Assemblée générale des 
 Habiles.\nhttp://www.agendabulle.fr/event/2026/4/23/2277-les-ateliers-des-
 habiles-lhabitat-participatif\nhttps://www.grenoble.fr/agenda/5064/484-les
 -ateliers-des-habiles-l-habitat-participatif.htm
IMAGE;VALUE=URI:http://www.agendabulle.fr/media/aa77e6c4-2b0f-4f9c-8e00-28
 f2808f769b.jpg
LOCATION:Maison de la Vie Associative et Citoyenne\, 6 Rue Berthe de Boiss
 ieux 38000 Grenoble\, Grenoble
NAME:Les ateliers des Habiles : l'habitat participatif
END:VEVENT
END:VCALENDAR
