BEGIN:VCALENDAR
VERSION:2.0
PRODID:-//AgendaBulle//https://agendabulle.fr//
BEGIN:VEVENT
SUMMARY:Roadshow Minalogic - Grenoble
DTSTART;TZID=Europe/Paris:20260423T180000
DTEND;TZID=Europe/Paris:20260423T200000
DTSTAMP:20260420T023638Z
UID:31be08f590bc8d5ce7d9fbec9435347d@agendabulle.fr
DESCRIPTION:En 2026\, le Roadshow Minalogic reprend la route ! Le 23 avril
 \, retrouvons-nous à Grenoble pour connecter celles et ceux qui font le n
 umérique en Auvergne-Rhône-Alpes ! Le Roadshow Minalogic fait étape à 
 Grenoble pour un afterwork convivial et efficace\, au cœur de l’écosys
 tème. Nous vous donnons rendez-vous au Y.SPOT partners pour une soirée r
 ythmée\, pensée pour favoriser les échanges concrets entre entreprises 
 innovantes\, acteurs académiques et partenaires institutionnels. Cette é
 tape est l’occasion de : En quelques heures\, accédez à un concentré 
 d’écosystème et élargissez votre réseau local et régional.\nhttp://
 www.agendabulle.fr/event/2026/4/23/2273-roadshow-minalogic-grenoble\nhttps
 ://www.grenoble.fr/agenda/6204/79-roadshow-minalogic-grenoble.htm
IMAGE;VALUE=URI:http://www.agendabulle.fr/media/70071b25-b991-4f62-93bf-c8
 7a95fd568a.jpg
LOCATION:Rue Bayard\, Rue Bayard Grenoble\, Grenoble
NAME:Roadshow Minalogic - Grenoble
END:VEVENT
END:VCALENDAR
