BEGIN:VCALENDAR
VERSION:2.0
PRODID:-//AgendaBulle//https://agendabulle.fr//
BEGIN:VEVENT
SUMMARY:La responsabilité en tant qu'association employeuse
DTSTART;TZID=Europe/Paris:20260423T180000
DTEND;TZID=Europe/Paris:20260423T200000
DTSTAMP:20260420T023637Z
UID:bf3b6b4a249fb99c41fa5cff80436e37@agendabulle.fr
DESCRIPTION:Participez à des formations pour monter en compétences rapid
 ement sur la vie associative. Après cette formation\, vous maîtriserez t
 outes les obligations légales et réglementaires spécifiques aux associa
 tions employeuses. Une formation gratuite\, animée par Les Orageuses. Les
  champs avec la mention * sont à remplir obligatoirement. Exemple : nom.p
 renom@domaine.com\nhttp://www.agendabulle.fr/event/2026/4/23/2272-la-respo
 nsabilite-en-tant-quassociation-employeuse\nhttps://www.grenoble.fr/agenda
 /4313/321-la-responsabilite-en-tant-qu-association-employeuse.htm
IMAGE;VALUE=URI:http://www.agendabulle.fr/media/76d0d79e-5cde-4910-96b3-01
 1a0e45fdad.jpg
LOCATION:Maison de la Vie Associative et Citoyenne\, 6 Rue Berthe de Boiss
 ieux 38000 Grenoble\, Grenoble
NAME:La responsabilité en tant qu'association employeuse
END:VEVENT
END:VCALENDAR
