BEGIN:VCALENDAR
VERSION:2.0
PRODID:-//AgendaBulle//https://agendabulle.fr//
BEGIN:VEVENT
SUMMARY:Soirée de lancement de l'enquête sur la vie associative de Greno
 ble
DTSTART;TZID=Europe/Paris:20260423T183000
DTEND;TZID=Europe/Paris:20260423T203000
DTSTAMP:20260420T023637Z
UID:ef76aad11906f818c7541b9bb657e837@agendabulle.fr
DESCRIPTION:Jusqu'au 20 juillet\, une seconde enquête est ouverte auprès
  des associations grenobloises pour continuer d’éclairer les spécifici
 tés du territoire\, d’identifier des leviers d’action et de nourrir l
 a réflexion collective autour de la vie associative locale. Participez à
  la soirée de lancement ! Mieux connaitre le tissu associatif grenoblois\
 , c'est l'objectif que s'est fixé la Ville de Grenoble avec la création 
 de l'Observatoire Local de la Vie Associative (OLVA) et la diffusion en 20
 23 d'une première enquête en 2023 auprès des associations grenobloises.
  Les résultats ont permis à la Ville de repenser certaines de ses action
 s\, comme la transformation et le développement des espaces et des usages
  de la MVAC \, le renforcement et l'orientation des formations proposées 
 aux associations\, une réflexion sur le prêt de salles ou encore la cré
 ation des cafés inter-associatifs. Forte de cette première édition\, la
  Ville souhaite inscrire cette démarche dans la durée en reconduisant ce
 tte enquête tous les 3 ans. La seconde enquête de l'OLVA est donc ouvert
 e du 14 avril au 20 juillet 2026. Elle peut être complétée en ligne ou 
 en format papier à la Maison de la Vie Associative et Citoyenne et dans l
 es Maisons des Habitant-es.\nhttp://www.agendabulle.fr/event/2026/4/23/227
 1-soiree-de-lancement-de-lenquete-sur-la-vie-associative-de-grenoble\nhttp
 s://www.grenoble.fr/agenda/6306/484-soiree-de-lancement-de-l-enquete-sur-l
 a-vie-associative-de-grenoble.htm
IMAGE;VALUE=URI:http://www.agendabulle.fr/media/220aac44-a947-47ca-9ead-fc
 4514cf6f8b.jpg
LOCATION:Maison de la Vie Associative et Citoyenne\, 6 Rue Berthe de Boiss
 ieux 38000 Grenoble\, Grenoble
NAME:Soirée de lancement de l'enquête sur la vie associative de Grenoble
END:VEVENT
END:VCALENDAR
