BEGIN:VCALENDAR
VERSION:2.0
PRODID:-//AgendaBulle//https://agendabulle.fr//
BEGIN:VEVENT
SUMMARY:Groupe de parole AFTOC
DTSTART;TZID=Europe/Paris:20260423T180000
DTEND;TZID=Europe/Paris:20260423T200000
DTSTAMP:20260420T023637Z
UID:754f989ad7e1ca11209de47a2dbb0cd4@agendabulle.fr
DESCRIPTION:Vous souffrez de TOC (Troubles Obsessionnels Compulsifs) ou vo
 us êtes proche d'une personne atteinte de cette pathologie\, ne restez pa
 s seul. Le groupe de parole de l'AFTOC de Grenoble vous permet de rencontr
 er des personnes concernées par la maladie Le groupe de parole a pour voc
 ation d’être un lieu d’information\, d’échange et de soutien. C’
 est l’occasion de rencontrer dans la bienveillance d’autres personnes 
 touchées directement ou indirectement par les TOC. Les participants sont 
 libres d’écouter et/ou prendre la parole. Venez participer\, écouter\,
  prendre la parole\, venez partager votre expérience avec d’autres éga
 lement ! Au plaisir de vous rencontrer\, Dominique pour l'AFTOC Grenoble 6
  Rue Berthe de Boissieux 38000 Grenoble Secteur 2\nhttp://www.agendabulle.
 fr/event/2026/4/23/2270-groupe-de-parole-aftoc\nhttps://www.grenoble.fr/ag
 enda/6135/79-groupe-de-parole-aftoc.htm
IMAGE;VALUE=URI:http://www.agendabulle.fr/media/978cdff7-8b3d-45aa-abf7-e4
 4eb6812f31.jpg
LOCATION:Maison de la Vie Associative et Citoyenne\, 6 Rue Berthe de Boiss
 ieux 38000 Grenoble\, Grenoble
NAME:Groupe de parole AFTOC
END:VEVENT
END:VCALENDAR
