BEGIN:VCALENDAR
VERSION:2.0
PRODID:-//AgendaBulle//https://agendabulle.fr//
BEGIN:VEVENT
SUMMARY:La vie amoureuse\, affective et sexuelle des personnes âgées (r
 éservé aux professionnel-les)
DTSTART;TZID=Europe/Paris:20260423T140000
DTEND;TZID=Europe/Paris:20260423T160000
DTSTAMP:20260420T023637Z
UID:e328352172c6a9e92f2e36690e0230f1@agendabulle.fr
DESCRIPTION:Comment respecter la vie amoureuse\, affectives et sexuelles d
 es personnes accompagnées ? Dans une société dont les mœurs évoluent 
 : comment respecter les besoins de chacun? Qu'est ce qui est acceptable ? 
 Accompagnable  ? Pour le bien être psychique des personnes accompagnées 
 ? Comment réagir lorsque des proches nous interpellent ? A travers des ca
 s d'usages\, le Dr Rosa Carballeda\, médecin sexologue viendra nous écla
 irer sur sur notre posture professionnelle afin d'en tirer des bonnes prat
 iques. 6\, rue de Narvik 38000 Grenoble Secteur 2 Gratuit sur inscription 
 auprès de la Cité Baya au 04.76.69.45.45 ou par mail à l'adresse cite.b
 aya@ccas-grenoble.fr\nhttp://www.agendabulle.fr/event/2026/4/23/2269-la-vi
 e-amoureuse-affective-et-sexuelle-des-personnes-agees-reserve-aux-professi
 onnel-les\nhttps://www.grenoble.fr/agenda/6211/972-la-vie-amoureuse-affect
 ive-et-sexuelle-des-personnes-agees-reserve-aux-professionnel-les.htm
IMAGE;VALUE=URI:http://www.agendabulle.fr/media/34179254-1ebf-4a3f-83ad-af
 90929184a6.jpg
LOCATION:Cité Baya\, 6 Rue de Narvik\, 38000 Grenoble\, Grenoble
NAME:La vie amoureuse\, affective et sexuelle des personnes âgées (rése
 rvé aux professionnel-les)
END:VEVENT
END:VCALENDAR
