BEGIN:VCALENDAR
VERSION:2.0
PRODID:-//AgendaBulle//https://agendabulle.fr//
BEGIN:VEVENT
SUMMARY:RADIS BOUM - 2000BPM
DTSTART;TZID=Europe/Paris:20260423T200000
DTEND;TZID=Europe/Paris:20260423T233000
DTSTAMP:20260420T022608Z
UID:54d6ed5e954f4a65fb07da45ae74504a@agendabulle.fr
DESCRIPTION:2000 BPM revient au Bar Radis pour y présenter sa nouvelle so
 irée : EuroBoum ! Un format plus adapté aux couche-tôt qui ont quand m
 ême envie de faire la fête avec un lineup mettant à l'honneur la scène
  locale. Pour cette première édition\, l'orga du collectif prend le cont
 rôle des platines pour vous faire revivre une boum comme dans les années
  2000 !\nhttp://www.agendabulle.fr/event/2026/4/23/2265-radis-boum-2000bpm
 \nhttps://www.facebook.com/events/1856220121748098/
IMAGE;VALUE=URI:http://www.agendabulle.fr/media/13b2175e-1abd-4853-bddc-aa
 c3e7559f70.jpg
LOCATION:Le Bar Radis\, 15 rue Gustave Flaubert\, grenoble
NAME:RADIS BOUM - 2000BPM
END:VEVENT
END:VCALENDAR
