BEGIN:VCALENDAR
VERSION:2.0
PRODID:-//AgendaBulle//https://agendabulle.fr//
BEGIN:VEVENT
SUMMARY:Mary Sidney alias Shakespeare
DTSTART;TZID=Europe/Paris:20260422T200000
DTEND;TZID=Europe/Paris:20260422T220000
DTSTAMP:20260422T223912Z
UID:cc9402bcb34bca3b59a254a613d93c6a@agendabulle.fr
DESCRIPTION:Et si Shakespeare était une femme ? Telle est la question… 
 et l’enjeu de cette passionnante enquête. Sous forme de conférence-spe
 ctacle\, Aurore Evain démontre\, avec rigueur et humour\, qu’une contem
 poraine de Shakespeare pourrait bien être l’autrice des œuvres attribu
 ées au célèbre dramaturge.\n\nAu cours de ce spectacle très documenté
 \, Aurore Evain\, accompagnée de la comédienne Fanny Zeller\, soutient l
 ’hypothèse selon laquelle l’auteur de Roméo et Juliette n’est peut
 -être pas celui (ou celle) qu’on croit ! De quoi hanter tout masculinis
 te qui s’ignore. En s’appuyant sur les textes shakespeariens eux-même
 s et sur les recherches de l’américaine Robin P. Williams\, elle dessin
 e le destin hors du commun d’une savante de la Renaissance anglaise\, Ma
 ry Sidney Herbert\, comtesse de Pembroke. À une époque où les femmes ne
  pouvaient signer un écrit inédit sans être honnies\, il n’est pas im
 possible que cette brillante autrice soit à l’origine de plusieurs œuv
 res\, jusque-là attribuées à son contemporain. Mais pas de polémique :
  par cette démarche stimulante\, Aurore Evain entend surtout « présente
 r suffisamment de faits sourcés\, saupoudrés de coïncidences surprenant
 es et assaisonnés de démonstrations troublantes pour éveiller notre cur
 iosité. » Et elle y parvient à merveille !\n\nAurore Evain\n\nAurore Ev
 ain\, artiste associée au Théâtre des Îlets – CDN de Montluçon\, es
 t autrice\, comédienne\, metteuse en scène et chercheuse en histoire des
  femmes.\n\nTrès tôt engagée dans l’écriture\, elle signe à vingt a
 ns sa première pièce\, Femmes d’attente \, mise en scène par Stephan 
 Druet en 1998. En 2001\, elle publie L’Apparition des actrices professio
 nnelles en Europe (L’Harmattan)\, puis oriente ses recherches vers les p
 remières dramaturges et l’histoire du mot « autrice ». À partir de 2
 007\, elle codirige une anthologie majeure\, Théâtre de femmes de l’An
 cien Régime . Elle écrit régulièrement des articles\, donne des confé
 rences en France et à l’étranger\, et est à l’origine des première
 s Journées du Matrimoine.\n\nEn 2020\, elle explore la question de l’id
 entité de William Shakespeare avec le spectacle Mary Sidney\, alias Shake
 speare . Un spectacle qui à donné naissance à un livre éponyme publié
  en 2024 aux éditions Talents Hauts.\n\nMary Sidney Herbert\n\nMary Sidne
 y\, Comtesse de Pembroke\, est l’une des plus brillantes écrivaines par
 mi les oubliées qui hantent notre Histoire littéraire. Elle développa e
 t anima le plus important cercle littéraire anglais du XVIème siècle et
  consacra sa vie à la production de grandes œuvres en langue anglaise. P
 olyglotte\, parlant couramment latin\, d’une érudition exceptionnelle\,
  pratiquant l’alchimie et la médecine\, la musique\, la fauconnerie\, l
 a politique\, l’occultisme…\, elle fut aussi la première femme dans s
 on pays à faire éditer une pièce en anglais : traduite du français\, s
 a tragédie Antonius servit de modèle à l’Antoine et Cléopâtre de Sh
 akespeare. Elle fut également la première autrice à ne pas s’excuser 
 de publier ses œuvres. Il était néanmoins inconcevable\, en raison de s
 a condition sociale et de son sexe\, qu’elle signa des pièces destinée
 s aux acteurs du théâtre professionnel.\n\nWilliam Shakespeare\n\nIl est
  le plus inconnu de nos plus célèbres écrivains. Aucun de ses manuscrit
 s ne nous est parvenu. Son testament ne mentionne aucun livre\, ni aucune 
 de ses nombreuses œuvres restées inédites à sa mort. En 1616\,quasimen
 t nul hommage ne lui est rendu. Les quelques traces que l’on conserve de
  lui ont trait à son métier d’acteur. Il n’est jamais fait mention d
 e son implication dans les cercles littéraires de l’époque. Élevé pa
 r des parents illettrés\, on ne lui connaît aucune formation. Les pièce
 s de Shakespeare se déroulent souvent à l’étranger\, et comportent de
 s descriptions remarquablement précises. Là encore\, pas de trace écrit
 e d’un quelconque voyage de Shakespeare hors de son pays. Où William Sh
 akespeare a-t-il puisé ses connaissances de l’Antiquité\, de l’Histo
 ire\, du Droit\, de l’anatomie ?Comment aurait-il pu connaître dans le 
 détail les nombreux aspects de la vie de cour et les habitudes de l’ari
 stocratie\, lui qui gravitait si loin de ce milieu ?\nhttp://www.agendabul
 le.fr/event/2026/4/22/2434-mary-sidney-alias-shakespeare\nhttps://www.mc2g
 renoble.fr/spectacle/mary-sidney-alias-shakespeare/2026-04-23/
LOCATION:MC2 Grenoble\, 4 Rue Paul Claudel\, 38100 Grenoble\, Grenoble
NAME:Mary Sidney alias Shakespeare
END:VEVENT
END:VCALENDAR
