BEGIN:VCALENDAR
VERSION:2.0
PRODID:-//AgendaBulle//https://agendabulle.fr//
BEGIN:VEVENT
SUMMARY:Eros Ramazzotti
DTSTART;TZID=Europe/Paris:20260422T200000
DTEND;TZID=Europe/Paris:20260422T220000
DTSTAMP:20260421T102408Z
UID:43ae66025573609243d20bbb036fec14@agendabulle.fr
DESCRIPTION:Eros Ramazzotti annonce Una Storia Importante World Tour 2026\
 , une tournée mondiale célébrant son lien musical profond avec le publi
 c à travers 30 pays. 14 Boulevard Clemenceau 38100 Grenoble Secteur 5\nht
 tp://www.agendabulle.fr/event/2026/4/22/2361-eros-ramazzotti\nhttps://www.
 grenoble.fr/agenda/5903/183-eros-ramazzotti.htm
IMAGE;VALUE=URI:http://www.agendabulle.fr/media/40a60a96-ac88-48ea-bda5-b0
 6f8cf181da.jpg
LOCATION:Palais des Sports Pierre Mendès France\, 14 Boulevard Clemenceau
  38100 Grenoble\, Grenoble
NAME:Eros Ramazzotti
END:VEVENT
END:VCALENDAR
