BEGIN:VCALENDAR
VERSION:2.0
PRODID:-//AgendaBulle//https://agendabulle.fr//
BEGIN:VEVENT
SUMMARY:Réunion Publique : Lutte contre la déviation de Saint-Péray et
  mobilisation du 14 au 17 mai : On Fait Pas L’Pont !
DTSTART;TZID=Europe/Paris:20260422T183000
DTEND;TZID=Europe/Paris:20260422T203000
DTSTAMP:20260420T131839Z
UID:94b582d1f6c0e41f21e998a36f4c3e15@agendabulle.fr
DESCRIPTION:Le projet de déviation de Saint-Péray\, c’est des kilomèt
 res de route\, des dizaines d’hectares d’artificialisation des terres 
 agricoles\, des centaines d’espèces animales et végétales impactées\
 , dont de nombreuses protégées\, le tout sans autorisation à ce jour .\
 n\nEt ce n’est que la partie émergée de l’iceberg : la déviation d
 e Saint-Péray fait partie intégrante du projet de périphérique de Vale
 nce\, avec toute la Plaine qui est menacée d’urbanisation à terme .\n\
 nAprès 2 ZADs qui ont permis de retarder les travaux et de forcer l’am
 énageur à faire de nouvelles études environnementales\, il faut retourn
 er sur le terrain pour les empêcher de réaliser une étape cruciale du p
 rojet : la mise en place du pont-rail sous la voie ferrée. Pendant 4 jou
 rs\, la circulation des trains sera coupée\, afin de mener à bien cette 
 opération milimétrée.\n\nManifestations\, concerts\, village associatif
  et autres joyeusetés sont prévues sur ces 4 jours pour rendre impossibl
 e la réalisation de ce qui ne sera JAMAIS le plus grand (et le plus cher)
  crapauduc du monde.\n\nLa mobilisation est soutenue par plein de copaines
  paysan.nes\, riverain.es\, élu.es de plusieurs partis\, souvent en lutte
  contre d’autres projets pourris du même type partout dans la région\,
  et s’inscrit logiquement dans la campagne nationale "Printemps des Lutt
 es" [ 1] contre l’artificialisation des sols\, appelée par une centaine
  de collectifs. Parce qu’à Saint-Péray\, comme partout ailleurs\, nous
  ne les laisserons pas détruire les conditions mêmes de la vie future .\
 n\n=> Du 14 au 17 mai\, On Fait Pas L’Pont ! Rejoignez-nous pour 4 jour
 s de mobilisation contre le projet de déviation de Saint-Péray !\n\nDos
 sier presse de l’association Alterre : https://www.alterre-asso.org/wp-
 content/uploads/2025/01/Dossier-de-presse-2025-01-13.pdf Nos réseaux : h
 ttps://linktr.ee/ami.e.s_plaine_st_peray / on-fait-pas-le-pont@autistici.o
 rg\n\n***D’autres réunions publiques sont prévues dans la région\, la
  liste complète est disponible sur nos réseaux !\nhttp://www.agendabull
 e.fr/event/2026/4/22/2348-reunion-publique-lutte-contre-la-deviation-de-sa
 int-peray-et-mobilisation-du-14-au-17-mai-on-fait-pas-lpont\nhttps://www.l
 e-tamis.info/evenement/reunion-publique-lutte-contre-la-deviation-de-sain
IMAGE;VALUE=URI:http://www.agendabulle.fr/media/801ab930-136e-4ff5-964d-ef
 f80ed18884.jpg
LOCATION:La base\, 17 rue du Dauphiné\, Grenoble
NAME:Réunion Publique : Lutte contre la déviation de Saint-Péray et mo
 bilisation du 14 au 17 mai : On Fait Pas L’Pont !
END:VEVENT
END:VCALENDAR
