BEGIN:VCALENDAR
VERSION:2.0
PRODID:-//AgendaBulle//https://agendabulle.fr//
BEGIN:VEVENT
SUMMARY:Repas partagé à l'Université autogérée de Grenoble
DTSTART;TZID=Europe/Paris:20260422T110000
DTEND;TZID=Europe/Paris:20260422T130000
DTSTAMP:20260420T131838Z
UID:e7b366dc10d6c57f012864d755abf800@agendabulle.fr
DESCRIPTION:L' Université Autogérée de Grenoble organise un repas parta
 gé. C'est l'occasion de discuter et de découvrir des participant-e-s et 
 les locaux de l'Université autogérée.\n\nVenez cuisiner ensemble à par
 tir de 11h\n\nPour découvrir le programme complet de l' Université Autog
 érée de Grenoble en février et mars 2026\, c'est ici .\nhttp://www.agen
 dabulle.fr/event/2026/4/22/2337-repas-partage-a-luniversite-autogeree-de-g
 renoble\nhttps://www.le-tamis.info/evenement/repas-partage-a-luniversite-a
 utogeree-de-grenoble
LOCATION:Université Autogérée\, 921 Rue des Résidences\, Saint-Martin-
 d'Hères
NAME:Repas partagé à l'Université autogérée de Grenoble
END:VEVENT
END:VCALENDAR
