BEGIN:VCALENDAR
VERSION:2.0
PRODID:-//AgendaBulle//https://agendabulle.fr//
BEGIN:VEVENT
SUMMARY:Festival Perds pas l'Nord ! du 22 au 25 avril\, La MADRE
DTSTART;TZID=Europe/Paris:20260422T140000
DTEND;TZID=Europe/Paris:20260422T160000
DTSTAMP:20260420T131837Z
UID:116994db7ec3bfcbf6386bdb6d57d218@agendabulle.fr
DESCRIPTION:La MADRE est une association\, à Grenoble\, d’éducation po
 pulaire à la croisée des questions sociales et environnementales. Essayo
 ns de mieux comprendre ce monde en plein bouleversement et imaginons des r
 éponses pour demain !\n\nNotre festival ” Perds Pas l’Nord ! ”\, du
  22 au 25 avril 2026\, est un élan collectif : spectacles\, animations\, 
 débats et projections pour créer des espaces vivants et ressentir\, part
 ager\, expérimenter d’autres possibles.\n\nDate : 22 au 25 avril 2026\n
 \nLieu : La Correspondance\, 30 bis avenue Marcelin Berthelot\, Grenoble (
 accès Tram A arrêt MC2)\n\nInformations détaillées et billetterie\n\nP
 ROGRAMME\n\nMercredi 22 avril 2026\n\n14h ANIMATION – La tête et les ja
 mbes \, avec Big Bang Ballers et Les Petits Débrouillards\n\nGratuit\, in
 scription souhaitée\n\nJeudi 23 Avril 2026\n\n18h APÉRO-DÉBAT – Réin
 ventons la montagne\, avec Fiona Mille de Mountain Wilderness\n\nGratuit\,
  inscription souhaitée\n\nVendredi 24 Avril 2026\n\n14h SPECTACLE - Messa
 ges glaciaires\, de l’association névé.\n\nSession pour les scolaires 
 18h PROJECTION - Le vivant qui se défend\, film de Vincent Verzat\, prés
 enté par l’ASPAS\n\n5 € plein tarif et 3 € solidaire\n\n20h15 SPECT
 ACLE - Messages glaciaires\, de l’association névé. Session tout publi
 c\n\n10 € plein tarif et 6 € solidaire\n\nSamedi 25 Avril 2026\n\n15h 
 ... jusqu'à fonte - INSTALLATION – Projet Mondes Fluides de Anouche Lel
 ong\n\nGratuit\n\n15h STANDS\, ANIMATIONS ET BUVETTE Gratuit\n\n17h30 CONF
 ÉRENCE GESTICULÉE – Boussoles de Jean-Philippe Pernin\, La MADRE Gratu
 it\, inscription souhaitée\n\n20h15 SPECTACLE - Ça (R)ira mieux demain d
 e la compagnie grenobloise Le Contre PoinG\n\n12 € plein tarif et 8 € 
 solidaire\nhttp://www.agendabulle.fr/event/2026/4/22/2323-festival-perds-p
 as-lnord-du-22-au-25-avril-la-madre\nhttps://www.le-tamis.info/evenement/f
 estival-perds-pas-lnord-du-22-au-25-avril-la-madr
LOCATION:La Correspondance\, 30 bis\, avenue Marcelin Berthelot\, 38100 Gr
 enoble\, Grenoble
NAME:Festival Perds pas l'Nord ! du 22 au 25 avril\, La MADRE
END:VEVENT
END:VCALENDAR
