BEGIN:VCALENDAR
VERSION:2.0
PRODID:-//AgendaBulle//https://agendabulle.fr//
BEGIN:VEVENT
SUMMARY:Atelier couture de protections périodiques réutilisables
DTSTART;TZID=Europe/Paris:20260422T090000
DTEND;TZID=Europe/Paris:20260422T110000
DTSTAMP:20260420T131836Z
UID:8d04e100f349fa58265656f80071e903@agendabulle.fr
DESCRIPTION:​🩲 Apprenez à faire vous même vos protections périodiq
 ues réutilisables !\n\nAu programme :\n\n💬​ 1 heure d'activités et 
 d'échanges autour des protections périodiques\n\n🧵 2 heures de coutur
 e. Étape après étape\, confectionnez une serviette lavable ou un sous-v
 êtement menstruel adapté à vos besoins.\n\nPas de compétences en coutu
 re requises.\n\n📅​ Date : Mercredi 22 avril 🕛​ horaires : 9h-12h
  📍​ Lieu d'accueil : Le Minismistan (Salle Calypso)\, Cour Marcel Rey
 mond Rue des Minimes\, Grenoble 🆓​ Atelier gratuit ✒️​ Inscript
 ion obligatoire : https://www.grenoblealpesmetropole.fr/agenda/1196/915-at
 elier-couture.htm\nhttp://www.agendabulle.fr/event/2026/4/22/2304-atelier-
 couture-de-protections-periodiques-reutilisables\nhttps://www.le-tamis.inf
 o/evenement/atelier-couture-de-protections-periodiques-reut-2
LOCATION:Minimistan\, 1 rue des minimes\, grenoble
NAME:Atelier couture de protections périodiques réutilisables
END:VEVENT
END:VCALENDAR
