BEGIN:VCALENDAR
VERSION:2.0
PRODID:-//AgendaBulle//https://agendabulle.fr//
BEGIN:VEVENT
SUMMARY:Conférence - débat autour de l'I.A. - Salle Noire / Grenoble
DTSTART;TZID=Europe/Paris:20260421T200000
DTEND;TZID=Europe/Paris:20260421T220000
DTSTAMP:20260420T131840Z
UID:c24f8499a0de0b37eeeb259e5539ec84@agendabulle.fr
DESCRIPTION:Yumi Fujimori\, comédienne\, membre du groupe de travail doub
 lage du SFA-CGT\, témoignera de la situation dans le secteur du doublage 
 \; Clément Pouré\, journaliste\, auteur du livre "Les Nouveaux contrema
 îtres"\, évoquera notamment les questions démocratiques \; Claire Boine
 \, professeure en droit des technologies et gouvernance de l'IA à l'Insti
 tut universitaire européen\, élargira la focale au-delà du secteur cult
 urel.\n\nPuis nous débattrons ensemble des luttes en cours ou à imaginer
  pour défendre nos métiers et nos secteurs.\nhttp://www.agendabulle.fr/e
 vent/2026/4/21/2357-conference-debat-autour-de-lia-salle-noire-grenoble\nh
 ttps://www.le-tamis.info/evenement/conference-debat-autour-de-lia-salle-no
 ire-grenobl
IMAGE;VALUE=URI:http://www.agendabulle.fr/media/0f47eab6-0fb9-4b7a-888a-1e
 12e3d0d6b9.jpg
LOCATION:La Salle Noire\, 19 rue des Arts et Métiers\, Grenoble
NAME:Conférence - débat autour de l'I.A. - Salle Noire / Grenoble
END:VEVENT
END:VCALENDAR
