BEGIN:VCALENDAR
VERSION:2.0
PRODID:-//AgendaBulle//https://agendabulle.fr//
BEGIN:VEVENT
SUMMARY:contre la répression subie par les soignantes de l'EHPAD l'âge d
 'or de Monestier-de-Clermont.
DTSTART;TZID=Europe/Paris:20260421T083000
DTEND;TZID=Europe/Paris:20260421T103000
DTSTAMP:20260420T131840Z
UID:f1b336ddec9ff7c783fbe32f33717076@agendabulle.fr
DESCRIPTION:Contact presse : SUD CT 38\nhttp://www.agendabulle.fr/event/20
 26/4/21/2350-contre-la-repression-subie-par-les-soignantes-de-lehpad-lage-
 dor-de-monestier-de-clermont\nhttps://www.le-tamis.info/evenement/contre-l
 a-repression-subie-par-les-soignantes-de-l
LOCATION:Rue Bayard\, Rue Bayard Grenoble\, Grenoble
NAME:contre la répression subie par les soignantes de l'EHPAD l'âge d'or
  de Monestier-de-Clermont.
END:VEVENT
END:VCALENDAR
