BEGIN:VCALENDAR
VERSION:2.0
PRODID:-//AgendaBulle//https://agendabulle.fr//
BEGIN:VEVENT
SUMMARY:Rencontres féministes autour du livre "Kanaky" (sur un militant i
 ndépendantiste)
DTSTART;TZID=Europe/Paris:20260421T193000
DTEND;TZID=Europe/Paris:20260421T213000
DTSTAMP:20260420T131838Z
UID:a43edf5c587e43244e83eb6e7ea0067e@agendabulle.fr
DESCRIPTION:Mardi 14 janvier à 19h30 à la Chimère citoyenne (12 rue Vol
 taire à Grenoble)\, le club de lecture et de podcast féministes grenoblo
 is "Frondaisons" organise une rencontre autour du livre " Kanaky "\, de J
 oseph Andras.\n\nEn avril-mai 1988\, l'affaire de la prise d'otages de la 
 grotte d'Ouvéa\, en Nouvelle-Calédonie\, s'est soldée par une intervent
 ion militaire et un bilan de 21 morts\, dont 19 Kanaks. Parmi eux\, Alphon
 se Dianou\, vingt-huit ans\, meneur charismatique du FLNKS.\n\nParti enqu
 êter sur ce personnage complexe\, Joseph Andras a rencontré\, sur un ato
 ll du bout du monde\, des citoyen-ne-s français-es dont beaucoup rêvent 
 d'indépendance.\n\n* * *\n\nVoici la présentation du club de lecture et 
 podcast féministe grenoblois "Frondaisons" par sa créatrice Sophie :\n\n
 Frondaisons est un club de lecture et de podcasts\, qui propose un plannin
 g de rencontres avec au programme des livre ou des podcasts\, à lire ou 
 à écouter avant de se rencontrer pour en discuter.\n\nLe choix des resso
 urces proposées est guidé par la pensée féministe : c'est une pensée 
 qui permet\, de fil en aiguille\, de s'intéresser à de multiples sujets\
 , qui sont en fait tous reliés aux problématiques d'oppressions\, d'inju
 stices\, d'injonctions\, de vivre ensemble. Cela amène une multitude de r
 éflexions très diverses.\n\n* C'est toujours ouvert à toutes et tous. S
 elon les sujets\, nous conviendrons que les personnes concernées auront u
 ne parole prioritaires\, et que les non concerné.e.s devront redoubler d'
 humilité et d'écoute.\n\n* C'est toujours limité à 8 personnes par ses
 sion\, pour se donner l'espace suffisant pour échanger. On est souvent mo
 ins.\n\n* On peut évidemment ne pas être d'accord avec certaines choses 
 qu'on lit ou écoute dans ce que je propose\, et aussi avec certaines chos
 es qui sont dites pendant les séances. Il est tout à fait possible de le
  dire\, et de rebondir sur les interventions des un·es et des autres\, de
  façon toujours bienveillante et constructive. Mais étant donnée la con
 figuration de ces rencontres\, cela ne pourra pas être un espace de déba
 t poussé sur une question précise. L'équilibre n'est pas forcément fac
 ile à trouver\, mais\, en général\, ça se passe bien :)\n\n+ d'infos e
 t inscription par mail :  frondaisons (at) protonmail.com ou sur la page 
 Instagram frondaisons.club\nhttp://www.agendabulle.fr/event/2026/4/21/2340
 -rencontres-feministes-autour-du-livre-kanaky-sur-un-militant-independanti
 ste\nhttps://www.le-tamis.info/evenement/rencontres-feministes-autour-du-l
 ivre-kanaky-sur-u
LOCATION:Chimère citoyenne\, 12 rue Voltaire\, Grenoble
NAME:Rencontres féministes autour du livre "Kanaky" (sur un militant ind
 épendantiste)
END:VEVENT
END:VCALENDAR
