BEGIN:VCALENDAR
VERSION:2.0
PRODID:-//AgendaBulle//https://agendabulle.fr//
BEGIN:VEVENT
SUMMARY:Arpentage - Bibliothèque Les Munitionnettes
DTSTART;TZID=Europe/Paris:20260421T180000
DTEND;TZID=Europe/Paris:20260421T200000
DTSTAMP:20260420T131838Z
UID:13a7140494428b3d4a86d5f8284dbb71@agendabulle.fr
DESCRIPTION:Pourquoi les couleurs disparaissent-t-elle de notre quotidien 
 ? Quelle est cette mode du beige chez les Ultra-riches ? Les mésanges en 
 ville La bibliothèque Les Munitionnettes vous propose de participer à un
 e lecture collective (à l'aide d'essais\, articles\, podcasts..)\, sous f
 orme d'ateliers\, autour de notre rapport à la couleur dans notre sociét
 é actuelle : ses symboliques\, sa disparition dans nos intérieurs et gar
 de-robe\, ce qu'elle nous dit du monde actuel. De lectures individuelles\,
  aux discussions par petits groupes puis par grands groupes\, l'arpentage 
 est une pratique d'éducation populaire qui permet de s'emparer d'un livre
 \, d'une thématique de manière collective et de susciter la discussion.\
 n\n-> Rendez-vous Mardi 21 avril de 18h à 21h (max)\n\n-> Bibliothèque L
 es Munitionnettes (anciennement Alliance) 90 rue de Stalingrad - 04 57 04 
 27 70\n\n-> Chips et biscuits bienvenus\nhttp://www.agendabulle.fr/event/2
 026/4/21/2335-arpentage-bibliotheque-les-munitionnettes\nhttps://www.le-ta
 mis.info/evenement/arpentage-bibliotheque-les-munitionnettes
LOCATION:Bibliothèque Les Munitionnettes\, 90 Rue de Stalingrad\, 38100 G
 renoble\, Grenoble
NAME:Arpentage - Bibliothèque Les Munitionnettes
END:VEVENT
END:VCALENDAR
