BEGIN:VCALENDAR
VERSION:2.0
PRODID:-//AgendaBulle//https://agendabulle.fr//
BEGIN:VEVENT
SUMMARY:Scène ouverte queer Boris et George
DTSTART;TZID=Europe/Paris:20260421T200000
DTEND;TZID=Europe/Paris:20260421T220000
DTSTAMP:20260420T131838Z
UID:c2ae658e1e6c54ccf15d46333d860b3c@agendabulle.fr
DESCRIPTION:Les fleurs déploient leurs pétales\, les jeunes pousses leur
 s premières feuilles et le garage cabane entouré de ses montagnes verdis
 santes réouvre ses portes mardi 21 avril à 20h! Enfile tes plus belles p
 arures (végétales) et viens découvrir et applaudir les artistes plein.e
 s de sève et de talents qui planteront pour la première fois ou non leur
 s racines dans la terre de la scène.\n\nEntrée libre\, pot à sous pour 
 rémunérer les artistes Pour monter sur scène écris-nous! borisetgeorge
 @gresille.org\, @borisetgeorge_drag\nhttp://www.agendabulle.fr/event/2026/
 4/21/2334-scene-ouverte-queer-boris-et-george\nhttps://www.le-tamis.info/e
 venement/scene-ouverte-queer-boris-et-george-3
LOCATION:Le Bar Radis\, 15 rue Gustave Flaubert\, grenoble
NAME:Scène ouverte queer Boris et George
END:VEVENT
END:VCALENDAR
