BEGIN:VCALENDAR
VERSION:2.0
PRODID:-//AgendaBulle//https://agendabulle.fr//
BEGIN:VEVENT
SUMMARY:Install Party + Rencontre FairPhone
DTSTART;TZID=Europe/Paris:20260421T190000
DTEND;TZID=Europe/Paris:20260421T210000
DTSTAMP:20260420T131838Z
UID:20450865f1538927a9ff42db57d4020f@agendabulle.fr
DESCRIPTION:La Guilde vous propose deux ateliers en une soirée: install p
 arty ET rencontre Fairphone à la Turbine.coop (entrée par le côté droi
 t du bâtiment).\n\nVous en avez assez d’être dépendants des logiciels
  et systèmes d’exploitations propriétaires (Google\, Android\, Micros
 oft\, etc.) ?\n\nCet atelier est pour vous ! Repartez à la fin de la so
 irée avec votre propre machine fonctionnant sous un nouveau système d’
 exploitation\, correctement installé\, configuré et agrémenté de nombr
 eux logiciels (essentiellement libres!).\n\nC’est aussi l’occasion pou
 r les utilisateur·ices de FairPhone de partager leurs expériences. Certa
 ins des bénévoles possèdent des Fairphones\, et peuvent vous installer 
 des systèmes d’exploitation alternatifs sur ceux-ci — comme /e/OS ou
  LineageOS. Si vous avez une marque de téléphone différente mais souhai
 tez quand même changer de système\, nous pouvons le faire aussi\, si cel
 ui-ci est pris en charge par le système cible !\n\nMerci de sauvegarder 
 vos données si vous apportez votre machine !\nhttp://www.agendabulle.fr/
 event/2026/4/21/2333-install-party-rencontre-fairphone\nhttps://www.le-tam
 is.info/evenement/install-party-rencontre-fairphone
LOCATION:La turbine\, 15 Rue Turenne\, Grenoble
NAME:Install Party + Rencontre FairPhone
END:VEVENT
END:VCALENDAR
