BEGIN:VCALENDAR
VERSION:2.0
PRODID:-//AgendaBulle//https://agendabulle.fr//
BEGIN:VEVENT
SUMMARY:Resto Malap le lundi 20 avril 2026
DTSTART;TZID=Europe/Paris:20260420T190000
DTEND;TZID=Europe/Paris:20260420T210000
DTSTAMP:20260420T131838Z
UID:6abfd81bef84ddee4d8ca64f5d4008a5@agendabulle.fr
DESCRIPTION:Le Resto Malap est un restaurant associatif de soutien aux per
 sonnes migrantes qui propose de la cuisine congolaise vegan.\n\nEn 2026\, 
 le Resto Malap cuisine au Bar Radis (15 Rue Gustave Flaubert\, Grenoble) l
 es lundis soirs. En avril\, nous y serons le lundi 20. Début de service 
 à 19h\, dernier service à 20h30. La réservation n'est pas obligatoire m
 ais elle est fortement conseillée ! Prix accessibles (entre 8 et 20 euros
  pour un repas).\n\nRéservation à ce lien :\n\nhttps://www.helloasso.com
 /associations/resto-malap/evenements/reservation-bar-radis-20-avril-2026\n
 http://www.agendabulle.fr/event/2026/4/20/2341-resto-malap-le-lundi-20-avr
 il-2026\nhttps://www.le-tamis.info/evenement/resto-malap-le-lundi-20-avril
 -2026
LOCATION:Le Bar Radis\, 15 rue Gustave Flaubert\, grenoble
NAME:Resto Malap le lundi 20 avril 2026
END:VEVENT
END:VCALENDAR
