BEGIN:VCALENDAR
VERSION:2.0
PRODID:-//AgendaBulle//https://agendabulle.fr//
BEGIN:VEVENT
SUMMARY:Projet de construction du nouvel incinérateur à La Tronche
DTSTART;TZID=Europe/Paris:20260420T200000
DTEND;TZID=Europe/Paris:20260420T220000
DTSTAMP:20260420T025202Z
UID:9156efec62b6e9bfbdc89f3c63f788ca@agendabulle.fr
DESCRIPTION:Réunion d'information proposée par Grenoble Alpes Métropole
 \n\nGrenoble-Alpes Métropole\, coordinatrice du groupement de commandes S
 ud Isère* propose une réunion d'information sur le chantier de construct
 ion de la nouvelle Unité d'Incinération et de Valorisation Energétique 
 - UIVE (organisation du chantier\, calendrier prévisionnel\, mesures de p
 réservation de l'environnement)\n\n*Communauté de communes Le Grésivaud
 an\, Matheysine\, Saint-Marcellin Vercors Isère\, Pays Voironnais\, Triè
 ves\, Oisans\nhttp://www.agendabulle.fr/event/2026/4/20/2078-projet-de-con
 struction-du-nouvel-incinerateur-a-la-tronche\nhttps://www.meylan.fr/agend
 a/2000/41-projet-de-construction-du-nouvel-incinerateur-a-la-tronche.htm?I
 D_AGENDAPERIODE=3658
IMAGE;VALUE=URI:http://www.agendabulle.fr/media/406ce017-0f31-4242-9e22-73
 2d80e05172.jpg
LOCATION:Espace Doyen Gosse\, 13 Rue Doyen Gosse\, 38700 La Tronche\, La T
 ronche
NAME:Projet de construction du nouvel incinérateur à La Tronche
END:VEVENT
END:VCALENDAR
