BEGIN:VCALENDAR
VERSION:2.0
PRODID:-//AgendaBulle//https://agendabulle.fr//
BEGIN:VEVENT
SUMMARY:L’Eau …. bien la comprendre pour mieux l’utiliser et la part
 ager… le rôle de l’hydrométéorologue\, conférence
DTSTART;TZID=Europe/Paris:20260418T153000
DTEND;TZID=Europe/Paris:20260418T173000
DTSTAMP:20260418T191812Z
UID:4dfec80cd2af1d83294c192612d7544f@agendabulle.fr
DESCRIPTION:Une conférence pour comprendre ce qu’est la prévision hydr
 ométéorologique et à quoi elle sert\n\nConférence de Pierre Bernard\, 
 expert de la Division Technique Générale d’EDF dans le domaine de la s
 urveillance\, des prévisions hydrométéorologiques et de la gestion de l
 ’eau Les mesures de terrain mises en place par EDF depuis 80 ans ont per
 mis dans un premier temps d’effectuer le dimensionnement des ouvrages hy
 drauliques dont les barrages\, au moment de leur construction. La prévisi
 on hydrométéorologique sert aussi à anticiper à court terme les phéno
 mènes extrêmes comme les crues\, mais également à optimiser au quotidi
 en la production hydroélectrique et la gestion saisonnière des lacs\, no
 tamment en montagne par la connaissance du stock neigeux. Une expertise qu
 e nous vous invitons à découvrir lors de cette conférence. A propos de 
 Pierre Bernard : Il est expert à la Division Technique Générale d’EDF
  (Saint-Martin-le-Vinoux) dans le domaine du génie civil.\n\nDiplômé à
  Grenoble INP - Ense3\, Pierre BERNARD travaille depuis plus de 30 ans à 
 EDF sur la thématique de la ressource en eau\, le changement climatique\,
  la gestion de l’eau et l’impact de la météo pour les parcs de produ
 ction d’EDF. Après un début de carrière à la Société du Canal de P
 rovence\, il rejoint en 1991 la Division Technique Générale (DTG) d’ED
 F à Saint-Martin-le-Vinoux en occupant plusieurs postes lui permettant de
  couvrir un large spectre d’activité. Après avoir été responsable du
  Centre de Prévisions hydrométéorologiques de Grenoble\, il occupe dés
 ormais un poste d’expert en surveillance et prévisions hydrométéorolo
 giques et gestion de l’eau. Il représente souvent la DTG dans les réun
 ions interne EDF mais aussi dans des instances de concertation avec les ac
 teurs de l’Eau en France\, que ce soit lors de situation d’étiages s
 évères ou de problématique de gestion. Il a participé à de nombreux c
 olloques scientifiques et techniques comme par exemple ceux de la Sociét
 é Hydrotechnique de France (SHF).\n\nLa Maison Bergès vous propose cette
  conférence\, en partenariat avec EDF\, à l'occasion du centenaire de l'
 Exposition internationale de la Houille blanche et du Tourisme qui s'est d
 éroulée à Grenoble.\nhttp://www.agendabulle.fr/event/2026/4/18/2213-lea
 u-bien-la-comprendre-pour-mieux-lutiliser-et-la-partager-le-role-de-lhydro
 meteorologue-conference\nhttps://www.grenoble-tourisme.com/fr/decouvrir/ev
 enements/agenda/detail/leau-bien-la-comprendre-pour-mieux-lutiliser-et-la-
 partager-le-role-de-lhydrometeorologue-conference-7763865/
IMAGE;VALUE=URI:http://www.agendabulle.fr/media/41fb17cd-2d0a-4499-af85-c5
 8f5b3d2939.jpg
LOCATION:Maison Bergès - Musée de la Houille blanche\, 40 Av. des Papete
 ries\, 38190 Villard-Bonnot\, Villard-Bonnot
NAME:L’Eau …. bien la comprendre pour mieux l’utiliser et la partage
 r… le rôle de l’hydrométéorologue\, conférence
END:VEVENT
END:VCALENDAR
