BEGIN:VCALENDAR
VERSION:2.0
PRODID:-//AgendaBulle//https://agendabulle.fr//
BEGIN:VEVENT
SUMMARY:Tous au cinéma avec la caravane d'À Bientôt j'espère !
DTSTART;TZID=Europe/Paris:20260418T080000
DTEND;TZID=Europe/Paris:20260418T100000
DTSTAMP:20260418T191812Z
UID:5bc07d829834d90f5b79761cbd9f50c1@agendabulle.fr
DESCRIPTION:Après un pique-nique\, une promenade ou une sieste sur les pe
 louses du parc du Bruchet\, glissez-vous dans un des fauteuils en velours 
 du plus petit cinéma du monde.\n\nDécouvrez toutes les demi-heures des c
 ourts films documentaires choisis pour vous surprendre et vous émouvoir. 
 Ouvrons ensemble une fenêtre poétique sur le monde. En parallèle\, chai
 se-longues\, boissons\, livres\, bd et jeux en bois vous attendent.\nhttp:
 //www.agendabulle.fr/event/2026/4/18/2210-tous-au-cinema-avec-la-caravane-
 da-bientot-jespere\nhttps://www.grenoble-tourisme.com/fr/decouvrir/eveneme
 nts/agenda/detail/tous-au-cinema-avec-la-caravane-d-a-bientot-j-espere-768
 4844/
IMAGE;VALUE=URI:http://www.agendabulle.fr/media/6e870371-8aef-4d78-aac7-dc
 48ff6cb418.jpg
LOCATION:Marché des Aiguinards\, Place de la Louisiane\, meylan\, meylan
NAME:Tous au cinéma avec la caravane d'À Bientôt j'espère !
END:VEVENT
END:VCALENDAR
