BEGIN:VCALENDAR
VERSION:2.0
PRODID:-//AgendaBulle//https://agendabulle.fr//
BEGIN:VEVENT
SUMMARY:Balatata - Bal participatif avec Magda Kachouche
DTSTART;TZID=Europe/Paris:20260418T203000
DTEND;TZID=Europe/Paris:20260418T223000
DTSTAMP:20260418T192443Z
UID:0d18bd5c15ed00189713cf21b0798676@agendabulle.fr
DESCRIPTION:𝘽𝘼𝙇𝘼𝙏𝘼𝙏𝘼 - 𝘽𝘼𝙇 𝙋𝘼𝙍
 𝙏𝙄𝘾𝙄𝙋𝘼𝙏𝙄𝙁\nAvec Magda Kachouche\n\n📅Le 18 av
 ril à 20h30\n📍La Correspondance\, Grenoble\n\n🪩Magda Kachouche réi
 nvente le bal en une expérience festive\, multiculturelle et participativ
 e. Une invitation à danser ensemble\, tous corps et tous âges confondus 
 !\n\n📎Ouvert à tous.tes à partir de 11 ans\n🔖Gratuit\, accès libr
 e\n\nUn évènement des 10 jours de la culture de Métropole de Grenoble e
 t en collaboration avec le CCN de Grenoble.\n\n© Bastien Capela\nhttp://w
 ww.agendabulle.fr/event/2026/4/18/2122-balatata-bal-participatif-avec-magd
 a-kachouche\nhttps://www.facebook.com/events/1294560879276039/
IMAGE;VALUE=URI:http://www.agendabulle.fr/media/f458a693-6072-47cf-a9c4-44
 77b65b10cf.jpg
LOCATION:La Correspondance\, 30 bis\, avenue Marcelin Berthelot\, 38100 Gr
 enoble\, Grenoble
NAME:Balatata - Bal participatif avec Magda Kachouche
END:VEVENT
END:VCALENDAR
