BEGIN:VCALENDAR
VERSION:2.0
PRODID:-//AgendaBulle//https://agendabulle.fr//
BEGIN:VEVENT
SUMMARY:Balade Photo - Chasse aux Photos
DTSTART;TZID=Europe/Paris:20260417T090000
DTEND;TZID=Europe/Paris:20260417T110000
DTSTAMP:20260417T145427Z
UID:12ebf5bc88e0fcbc8ef2b216ee4a7c49@agendabulle.fr
DESCRIPTION:Chasse aux Photos Une activité photographique ludique : vous 
 recevrez une liste de 20 objets différents à trouver et à photographier
  dans les environs de Grenoble.\n\nMais attention… il ne s'agit pas seul
 ement de prendre une photo\, il s'agit d'obtenir la meilleure photo possib
 le ! Suzanne vous donnera des conseils et des astuces pour y parvenir.\n\n
 La promenade dure environ 2 heures et peut se dérouler en anglais ou en f
 rançais.\n\nOuvert à toutes et tous — habitants de Grenoble comme visi
 teurs. Une activité idéale à partager en famille !\n\nUne expérience b
 ilingue en français et/ou en anglais\, parfaite pour améliorer vos comp
 étences linguistiques tout en développant votre regard photographique.\n
 \nÀ apporter : un appareil photo ou un smartphone\, et une paire de chaus
 sures confortables.\n\nLe lieu de rendez-vous sera communiqué au moment d
 e l’inscription.\n\nNous avons hâte de vous retrouver lors d’une de c
 es balades !\nhttp://www.agendabulle.fr/event/2026/4/17/2206-balade-photo-
 chasse-aux-photos\nhttps://www.grenoble-tourisme.com/fr/decouvrir/evenemen
 ts/agenda/detail/balade-photo-chasse-aux-photos-7762552/
IMAGE;VALUE=URI:http://www.agendabulle.fr/media/bacc0cad-6bd2-42ca-9f3c-30
 c8edea522e.jpg
LOCATION:CLIK Gallery\, 5 Boulevard Gambetta\, grenoble
NAME:Balade Photo - Chasse aux Photos
END:VEVENT
END:VCALENDAR
