BEGIN:VCALENDAR
VERSION:2.0
PRODID:-//AgendaBulle//https://agendabulle.fr//
BEGIN:VEVENT
SUMMARY:EXTREME METAL MADE IN GRENOBLE II & FAR AWAY
DTSTART;TZID=Europe/Paris:20260417T193000
DTEND;TZID=Europe/Paris:20260417T213000
DTSTAMP:20260417T185319Z
UID:8c8f581cf9ea3b41b41730c66b7a8238@agendabulle.fr
DESCRIPTION:2 ans après la première édition\, A.W.L.B et Hellixxir orga
 nisent la deuxième édition de la soirée EXTREME METAL MADE IN GRENOBLE 
 & far away à l'Amperage\nhttp://www.agendabulle.fr/event/2026/4/17/2140-e
 xtreme-metal-made-in-grenoble-ii-far-away\nhttps://www.facebook.com/events
 /1293785448368371/
IMAGE;VALUE=URI:http://www.agendabulle.fr/media/fee2b7de-85cb-4518-b068-e7
 0f37e813a2.jpg
LOCATION:L'Ampérage\, 163 Cours Berriat\, 38000\, Grenoble\, Grenoble
NAME:EXTREME METAL MADE IN GRENOBLE II & FAR AWAY
END:VEVENT
END:VCALENDAR
