BEGIN:VCALENDAR
VERSION:2.0
PRODID:-//AgendaBulle//https://agendabulle.fr//
BEGIN:VEVENT
SUMMARY:Atelier (grands) parents-enfants : bricolons ensemble !
DTSTART;VALUE=DATE:20260416
DTEND;VALUE=DATE:20260417
DTSTAMP:20260416T223335Z
UID:bc3d96d030d71be991d8b743a6172244@agendabulle.fr
DESCRIPTION:A l'occasion des vacances de printemps\, Meyl'entraide propose
  de nombreuses animations pour tous.\nhttp://www.agendabulle.fr/event/2026
 /4/16/2071-atelier-grands-parents-enfants-bricolons-ensemble\nhttps://www.
 meylan.fr/agenda/1947/41-atelier-grands-parents-enfants-bricolons-ensemble
 .htm?ID_AGENDAPERIODE=3570
IMAGE;VALUE=URI:http://www.agendabulle.fr/media/42fa4b23-cac8-46e9-a85e-e7
 a46f9749e5.jpg
LOCATION:Association Horizons\, 16 rue des Aiguinards meylan\, Meylan
NAME:Atelier (grands) parents-enfants : bricolons ensemble !
END:VEVENT
END:VCALENDAR
