BEGIN:VCALENDAR
VERSION:2.0
PRODID:-//AgendaBulle//https://agendabulle.fr//
BEGIN:VEVENT
SUMMARY:Les ateliers des Habiles : l'habitat participatif
DTSTART;TZID=Europe/Paris:20261208T173000
DTEND;TZID=Europe/Paris:20261208T193000
DTSTAMP:20260420T023638Z
UID:857b08354a03fd6ca0f76602583e8f88@agendabulle.fr
DESCRIPTION:Des ateliers pour échanger\, se rencontrer et se renseigner s
 ur l’habitat participatif. Chaque mois l'habitat participatif est abord
 é à partir d'un format et d'une thématique différente : retour d’exp
 érience de groupes en projet et/ou installés\, intervention d’expert-e
 s et de professionnel-les\, bourses aux projets\, temps de forum et d'anno
 nces\, etc. 6 Rue Berthe de Boissieux 38000 Grenoble Secteur 2 18H30/21H30
  et 17H30/21H30 pour la Bourse aux projets et l'Assemblée générale des 
 Habiles.\nhttp://www.agendabulle.fr/event/2026/12/8/2274-les-ateliers-des-
 habiles-lhabitat-participatif\nhttps://www.grenoble.fr/agenda/5064/484-les
 -ateliers-des-habiles-l-habitat-participatif.htm
IMAGE;VALUE=URI:http://www.agendabulle.fr/media/9159e63d-0b4e-436c-890b-43
 1b3f7f9f6a.jpg
LOCATION:Maison de la Vie Associative et Citoyenne\, 6 Rue Berthe de Boiss
 ieux 38000 Grenoble\, Grenoble
NAME:Les ateliers des Habiles : l'habitat participatif
END:VEVENT
END:VCALENDAR
