BEGIN:VCALENDAR
VERSION:2.0
PRODID:-//Agenda Bulle//https://agendabulle.fr//
BEGIN:VEVENT
SUMMARY:Pioche ta visite sur Stendhal
DTSTART;TZID=Europe/Paris:20261129T153000
DTEND;TZID=Europe/Paris:20261129T173000
DTSTAMP:20260423T233232Z
UID:bb0b019021296fc72785cfd43db8d419@agendabulle.fr
DESCRIPTION:Parmi une sélection de thématiques sur Stendhal\, sa vie et 
 son œuvre\, laissez le hasard des cartes vous guider… ou bien prenez la
  main ! Vous composerez ainsi\, avec les médiatrices du musée\, une vis
 ite unique et sur mesure. Entrée libre dans la limite des places disponib
 les. 20 Grande Rue 38000 Grenoble Secteur 2\nhttps://www.agendabulle.fr/ev
 ent/2026/11/29/2499-pioche-ta-visite-sur-stendhal\nhttps://www.grenoble.fr
 /agenda/3945/79-pioche-ta-visite-sur-stendhal.htm
IMAGE;VALUE=URI:https://www.agendabulle.fr/media/699fb6e4-3bdc-4bff-8546-b
 98385736573.jpg
LOCATION:Musée Stendhal\, 20 Grande Rue 38000 Grenoble\, Grenoble
NAME:Pioche ta visite sur Stendhal
END:VEVENT
END:VCALENDAR
