BEGIN:VCALENDAR
VERSION:2.0
PRODID:-//AgendaBulle//https://agendabulle.fr//
BEGIN:VEVENT
SUMMARY:Salon de l'Etudiant
DTSTART;TZID=Europe/Paris:20261128T090000
DTEND;TZID=Europe/Paris:20261128T110000
DTSTAMP:20260422T223023Z
UID:c1192e160b9f68f007f0ae7cef9f688c@agendabulle.fr
DESCRIPTION:L'Université Grenoble Alpes sera présente sur le salon de l'
 Étudiant de Grenoble pour informer les lycéens et étudiants sur les for
 mations\, les métiers et les possibilités de poursuite d'études\, la vi
 e étudiante et l'accompagnement au handicap ! Organisé par le magazine l
 'Etudiant avec le soutien du rectorat de Grenoble\, le salon de l'Étudian
 t est un rendez-vous annuel incontournable de l’orientation. Les équipe
 s de la Direction de l'orientation et de l'insertion professionnelle et de
  la Vie étudiante accompagnées d'enseignants et d'étudiants seront pré
 sents pour échanger\, informer et répondre aux diverses questions des ly
 céens et de leurs familles. Les quatre grands domaines de formations de l
 'UGA seront présents sur les plus de 300 m² des différents stands de l'
 Université Grenoble Alpes (stand UGA licences/études de santé/ENSAG\, I
 CAMPUS\, stand EUT\, sciences po\, INP\,  Polytech et IAE). Programme des
  conférences UGA Cette année\, des conférences dédiées aux formation
 s de l’UGA\, offriront des zooms thématiques aussi bien sur les formati
 ons\, les métiers ou encore sur les services à l’étudiant. Plus de 25
  conférences de 30 minutes chacune vous seront accessibles de 9h30 à 16h
 30. Programme en cours de réalisation YouTube est désactivé. Les servic
 es multimédias permettent d'enrichir le site de contenus vidéo et audio\
 , de PDF interactifs et d'animation. En autorisant ces services tiers\, vo
 us acceptez le dépôt et la lecture de cookies et l'utilisation de techno
 logies de suivi nécessaires à leur bon fonctionnement. Accepter YouTube 
 Voir le programme\, s'inscrire et préparer votre visite\nhttp://www.agen
 dabulle.fr/event/2026/11/28/2425-salon-de-letudiant\nhttps://www.univ-gren
 oble-alpes.fr/actualites/agenda/agenda-formation/salon-de-l-etudiant-11493
 2.kjsp
IMAGE;VALUE=URI:http://www.agendabulle.fr/media/85034794-4198-464b-b889-24
 c32f5a9bfd.jpg
LOCATION:Alpexpo\, Avenue d'Innsbruck\, Eybens
NAME:Salon de l'Etudiant
END:VEVENT
END:VCALENDAR
