BEGIN:VCALENDAR
VERSION:2.0
PRODID:-//AgendaBulle//https://agendabulle.fr//
BEGIN:VEVENT
SUMMARY:La Nuit de l'orientation
DTSTART;TZID=Europe/Paris:20261120T170000
DTEND;TZID=Europe/Paris:20261120T190000
DTSTAMP:20260422T223023Z
UID:d3d92bbc5d800e9f16c8fe8d025cf5ec@agendabulle.fr
DESCRIPTION:Organisée par la CCI de Grenoble avec le concours de l’UGA\
 , La Nuit de l'orientation donne l'occasion aux lycéens\, étudiants et l
 eurs parents de découvrir des métiers dans différents secteurs d’acti
 vité. Au programme Des conférences sur les filières : connaître les m
 étiers du BTP\, de la santé\, de la restauration\, de la justice\, des f
 inances\, de la com\, etc (une quarantaine de conférences prévues dans l
 a soirée) Des speed dating avec des professionnels\, salariés d’entrep
 rises grenobloises\, qui exercent les métiers d’architecte\, de boulang
 er\, d’informaticien\, de pédiatre\, d’avocat\, de commercial… (pr
 ès de 300 métiers sont représentés) Des entretiens d’orientation ave
 c les psychologues de l'Éducation nationale et des coachs La Nuit de l'or
 ientation est une occasion unique d'échanger directement avec des profess
 ionnels pour découvrir concrètement leur métier et leur secteur d’act
 ivité afin de de mieux se projeter dans son avenir professionnel ou chois
 ir sa voie. Une inscription préalable est nécessaire pour accéder aux d
 ifférents espaces de la soirée. Découvrez le programme détaillé et in
 scrivez-vous !\nhttp://www.agendabulle.fr/event/2026/11/20/2424-la-nuit-de
 -lorientation\nhttps://www.univ-grenoble-alpes.fr/actualites/agenda/agenda
 -formation/la-nuit-de-l-orientation-1329084.kjsp
IMAGE;VALUE=URI:http://www.agendabulle.fr/media/13db79e0-ae3a-40f4-8bca-06
 5b07ff8c0d.jpg
LOCATION:Bâtiment Pierre Mendès France\, Rue des Universités\, Saint-Ma
 rtin-d'Hères
NAME:La Nuit de l'orientation
END:VEVENT
END:VCALENDAR
