BEGIN:VCALENDAR
VERSION:2.0
PRODID:-//AgendaBulle//https://agendabulle.fr//
BEGIN:VEVENT
SUMMARY:Mickey\, tout a commencé par une souris
DTSTART;VALUE=DATE:20261120
DTEND;VALUE=DATE:20261121
DTSTAMP:20260418T190648Z
UID:03b9f579f1e4a589bf15e59186eeaebd@agendabulle.fr
DESCRIPTION:Envie de tout savoir sur la plus populaire des petites souris 
 ? Rendez-vous jusqu’au 18 avril au couvent Sainte-Cécile pour une expo 
 ludique et riche en surprises. Né en 1928 de l’imagination d’un certa
 in Walt Disney\, Mickey est devenu une icône du XXe siècle dans le monde
  entier ! C’est cette incroyable épopée que raconte Mickey : tout a co
 mmencé par une souris à travers 180 œuvres et objets pour la plupart in
 édits réunis par le Fonds Glénat. En ouverture\, l’expo rappelle que 
 ce personnage culte apparaît d’abord au cinéma. À la projection des p
 remiers films s’ajoutent des pièces rares pour suivre les étapes de cr
 éation : esquisses au crayon\, dessins de décors\, story-boards… On vo
 it ensuite Mickey devenir un héros de publication dans les journaux puis 
 des albums aux histoires plus longues et fouillées. Planches originales\,
  carnets d’études et autres pépites – dont le premier exemplaire du 
 Journal de Mickey ! - se dévoilent dans une scénographie foisonnante et 
 attractive. Le parcours se termine par un focus inattendu qui réunit un f
 ormidable bric-à-brac d’objets fabriqués depuis les années 1930.\nhtt
 p://www.agendabulle.fr/event/2026/11/20/2053-mickey-tout-a-commence-par-un
 e-souris\nhttps://www.grenoble.fr/agenda/5692/79-mickey-tout-a-commence-pa
 r-une-souris.htm
IMAGE;VALUE=URI:http://www.agendabulle.fr/media/5cab89e3-fb2e-4cf2-879b-cb
 5fdf3467e1.jpg
LOCATION:Couvent Sainte-Cécile\, 37 Rue Servan\, 38000 Grenoble\, Grenobl
 e
NAME:Mickey\, tout a commencé par une souris
END:VEVENT
END:VCALENDAR
