BEGIN:VCALENDAR
VERSION:2.0
PRODID:-//AgendaBulle//https://agendabulle.fr//
BEGIN:VEVENT
SUMMARY:Alela Diane
DTSTART;TZID=Europe/Paris:20261113T203000
DTEND;TZID=Europe/Paris:20261113T223000
DTSTAMP:20260422T222546Z
UID:6f659233e1e555729d05aabd551252e1@agendabulle.fr
DESCRIPTION:Voix emblématique du folk américain\, Alela Diane s’est im
 posée avec des titres devenus incontournables comme « The Pirate’s G
 ospel » ou « White As Diamonds ». Elle revient avec Who’s Keepin
 g Time?\, un nouvel album profondément habité\, né d’une période de 
 bouleversement personnel\, marquée notamment par la disparition de son me
 ntor Michael Hurley. Sur scène\, elle déploie une musique à la fois int
 ime et ample\, portée par une voix d’une grande pureté. Ses chansons s
 ensibles et lumineuses\, naviguent entre douceur et intensité\, et instal
 lent une atmosphère captivante. Saluée par des médias comme NPR Music o
 u The Guardian\, elle confirme avec ce nouvel album la singularité de son
  écriture et la force de son univers. Une artiste … dont la sincérité
  et la présence touchent dès les premières notes.\nhttp://www.agendabul
 le.fr/event/2026/11/13/2412-alela-diane\nhttps://lasource-fontaine.fr/even
 t/alela-diane/
IMAGE;VALUE=URI:http://www.agendabulle.fr/media/5595e461-bff0-4c3c-adb9-84
 659257e528.jpg
LOCATION:La Source\, 38 Av. Lénine\, 38600 Fontaine\, Fontaine
NAME:Alela Diane
END:VEVENT
END:VCALENDAR
