BEGIN:VCALENDAR
VERSION:2.0
PRODID:-//AgendaBulle//https://agendabulle.fr//
BEGIN:VEVENT
SUMMARY:Se réorienter en première année de licence / Forum des places v
 acantes en BTS
DTSTART;TZID=Europe/Paris:20261007T170000
DTEND;TZID=Europe/Paris:20261007T190000
DTSTAMP:20260422T223022Z
UID:5141cecce6693c37d1253d3cce71a8f7@agendabulle.fr
DESCRIPTION:Repenser votre orientation en première année dès maintenant
 \, c'est possible ! Découvrez les solutions qui vous sont accessibles au 
 premier semestre ou pour l'année prochaine. Au programme : conférence et
  forum des places vacantes en BTS pour aller au plus près de vos besoins.
  Vous inscrits en première année d'une formation de l'enseignement supé
 rieur et vous souhaitez vous réorienter et vous inscrire dans une autre
  licence de l’Université Grenoble Alpes (UGA) ? Connaître les places 
 vacantes disponibles en BTS dès le mois de novembre ? Préparer votre r
 éorientation l'année suivante en étant accompagné par l'Espace orienta
 tion et insertion professionnelle ? Au programme : le mercredi 7 octobre 
 conférence à 17h / Forum des places vacantes à 18h Les filières de L1 
 accessibles pour une réorientation en première année\, dès le second s
 emestre. La procédure et les dates à ne pas manquer pour vous réoriente
 r Des ateliers ou modules pour bien préparer sa candidature. Les places 
 vacantes en filière sélective (BTS) ou en alternance pour intégrer une 
 nouvelle formation dès le mois de novembre. Un forum pour rencontrer des 
 responsables de formation et des élèves ou alternants actuellement en fo
 rmation. Des conseils\, des ateliers ou modules pour bien préparer sa can
 didature. La procédure et les dates à ne pas manquer pour vous réorient
 er.\nhttp://www.agendabulle.fr/event/2026/10/7/2420-se-reorienter-en-premi
 ere-annee-de-licence-forum-des-places-vacantes-en-bts\nhttps://www.univ-gr
 enoble-alpes.fr/actualites/agenda/agenda-formation/se-reorienter-en-premie
 re-annee-de-licence-forum-des-places-vacantes-en-bts-271193.kjsp
IMAGE;VALUE=URI:http://www.agendabulle.fr/media/264ee167-723e-498e-b9a2-c2
 e84fc97380.jpg
LOCATION:Domaine universitaire\, 621\, Avenue Centrale 38400 Saint-Martin-
 d'Hères\, Saint-Martin-d'Hères
NAME:Se réorienter en première année de licence / Forum des places vaca
 ntes en BTS
END:VEVENT
END:VCALENDAR
