BEGIN:VCALENDAR
VERSION:2.0
PRODID:-//AgendaBulle//https://agendabulle.fr//
BEGIN:VEVENT
SUMMARY:Forum des métiers de Grenoble Alpes Métropole
DTSTART;VALUE=DATE:20261014
DTEND;VALUE=DATE:20261015
DTSTAMP:20260422T223023Z
UID:dcf57d801446be93a2c8f0b339c3e989@agendabulle.fr
DESCRIPTION:Le Forum des métiers 2026 organisé les 14 et 15 octobre par 
 Grenoble Alpes Métropole\, ce sont des job datings\, des animations inter
 actives\, des rencontres avec des pros\, une vision des tendances du march
 é… Venez à la rencontre des métiers qui recrutent. Plus d'une centain
 es d'entreprises seront présentes ! Au programme Découverte des métiers
  à travers 16 pôles qui présenteront des animations et des démonstrat
 ions interactives Rencontre de professionnels sur les stands "entreprise" 
 lien vers la liste des exposants (lien à venir) Ateliers liés à l'emplo
 i\, l'orientation\, la formation\, l'entreprenariat et l'insertion lien ve
 rs le programme Des centaines d’offres d’emploi et de stage à découv
 rir auprès des exposants Pourquoi venir au Forum des métiers à Grenoble
  ? Pour découvrir des métiers grâce à des démonstrations interactives
 \, des animations et des rencontres avec des experts et des jeunes en appr
 entissage. Pour obtenir gratuitement des informations et des conseils dans
  les espaces dédiés à la formation\, à l’orientation\, à la reconve
 rsion et à l’emploi. Pour développer votre réseau et rencontrer la ce
 ntaine d’exposants présents. Pour échanger avec des professionnels et 
 saisir des opportunités d’emploi concrètes. L'essentiel à retenir ! L
 e Forum des métiers est organisé par Grenoble Alpes Métropole les 14 et
  15 octobre 2026 à Alpexpo à Grenoble. L'entrée est gratuite et ouvert
 e à tous. De nombreux métiers et filières seront représentés\, et dif
 férents espaces d'information et de conseil seront proposés. Un programm
 e d'animations\, conférences\, démonstrations et rencontres est prévu p
 our vous permettre de découvrir des métiers\, des formations\, des offre
 s de recrutement... Inscription en ligne ou sur place (lien à venir) Vide
 o Player 00:00 00:00 00:20 Use Up/Down Arrow keys to increase or decrease 
 volume. L'Espace OIP participe à ce forum dans le cadre du cycle d’atel
 iers\, conférences\, soirées métiers et afterworks .\nhttp://www.agenda
 bulle.fr/event/2026/10/14/2422-forum-des-metiers-de-grenoble-alpes-metropo
 le\nhttps://www.univ-grenoble-alpes.fr/actualites/agenda/agenda-formation/
 forum-des-metiers-de-grenoble-alpes-metropole-1303114.kjsp
IMAGE;VALUE=URI:http://www.agendabulle.fr/media/4ac805a2-da35-4fa2-9a4d-a6
 ae4b45532e.jpg
LOCATION:Alpexpo\, 401 Avenue d'Innsbruck 38100 Grenoble\, Grenoble
NAME:Forum des métiers de Grenoble Alpes Métropole
END:VEVENT
END:VCALENDAR
