BEGIN:VCALENDAR
VERSION:2.0
PRODID:-//AgendaBulle//https://agendabulle.fr//
BEGIN:VEVENT
SUMMARY:Journée Échanges lycée université (JELU) - Grenoble
DTSTART;TZID=Europe/Paris:20261013T080000
DTEND;TZID=Europe/Paris:20261013T100000
DTSTAMP:20260422T223022Z
UID:8653e1945f3627be16a2a8ff0c38eef5@agendabulle.fr
DESCRIPTION:Le service académique d'information et d'orientation et les s
 ervices d'information et d'orientation des universités de Grenoble et Sav
 oie accueillent psychologues de l'éducation nationale et professeurs prin
 cipaux des lycées pour une journée\nd'information. Cette journée\, orga
 nisée chaque année par le service académique d'information et d'orienta
 tion et les services d'information et d'orientation des universités de Gr
 enoble et Savoie\, marque l'ouverture des journées académiques d'informa
 tion. Elle a pour objectif d'apporter aux enseignants\, aux psychologues d
 e l'éducation nationale et aux équipes éducatives en général (princip
 aux relais de l'information auprès des lycéens) une vision actualisée d
 e l'université. Elle permet les échanges entre les différents acteurs d
 u secondaire et du supérieur sur l'évolution des formations\, les expér
 imentations pédagogiques\, les parcours et leurs débouchés. Une séance
  plénière Cette journée débutera par une séance plénière durant laq
 uelle interviendront les vice-présidents formation des universités. Des 
 ateliers thématiques La journée se poursuivra par une série d'ateliers 
 transversaux sur des thématiques en lien avec les formations\, les outils
  et les ressources pédagogiques. Inscriptions et programme sur Alys\nhttp
 ://www.agendabulle.fr/event/2026/10/13/2421-journee-echanges-lycee-univers
 ite-jelu-grenoble\nhttps://www.univ-grenoble-alpes.fr/actualites/agenda/ag
 enda-formation/journee-echanges-lycee-universite-jelu-grenoble-250247.kjsp
IMAGE;VALUE=URI:http://www.agendabulle.fr/media/39b2a112-b42f-4a0b-8494-90
 7070319cec.jpg
LOCATION:Domaine universitaire Bâtiment Stendhal\, 1180 rue des Universit
 és\, Saint-Martin-d'Hères
NAME:Journée Échanges lycée université (JELU) - Grenoble
END:VEVENT
END:VCALENDAR
