BEGIN:VCALENDAR
VERSION:2.0
PRODID:-//AgendaBulle//https://agendabulle.fr//
BEGIN:VEVENT
SUMMARY:⛰🥾 Rando militante 🥾⛰
DTSTART;TZID=Europe/Paris:20260425T080000
DTEND;TZID=Europe/Paris:20260425T170000
DTSTAMP:20260420T023040Z
UID:8d3df0a23dfc9fc87342350f71f89e29@agendabulle.fr
DESCRIPTION:Rando militante : ascension de Chamechaude le samedi 25 avril 
 de 8h à 17h\n\n\nPars à l'ascension de Chamechaude avec un guide diplôm
 é. Au programme randonnée\, picnic\, discussions nature et militante 
 💚\n\nInscription obligatoire sur ce lien : \nhttps://framaforms.org/ins
 cription-randonnee-militante-du-25-avril-2026-1774447734\n\nPrix libre\n\n
 http://www.agendabulle.fr/event/2026/4/25/1783-rando-militante\nhttps://ww
 w.facebook.com/events/827024817081669/
IMAGE;VALUE=URI:http://www.agendabulle.fr/media/20f026c0-9adc-4434-9e27-f9
 b7f69e2656.jpg
LOCATION:Cathédrale Notre-Dame de Grenoble\, Place Notre Dame\, 38000 Gre
 noble\, Grenoble
NAME:⛰🥾 Rando militante 🥾⛰
END:VEVENT
BEGIN:VEVENT
SUMMARY:Running culturel
DTSTART;TZID=Europe/Paris:20260426T100000
DTEND;TZID=Europe/Paris:20260426T120000
DTSTAMP:20260420T025204Z
UID:7955755c9fd352fcc66c45d33548645b@agendabulle.fr
DESCRIPTION:Course organisée dans le cadre du Printemps des pensées 2026
 \, en partenariat avec l’association Aspa Running.\n\nCette course est p
 lacée sous le signe de la paix et du partage\, dans une ambiance convivia
 le et engagée.\n\nLe parcours de 6\,5km dans la ville permettra de décou
 vrir ou redécouvrir 15 fresques de street art avec une petite pause et un
  descriptif de chaque œuvre.\n\nÀ l'arrivée : inauguration de la fresqu
 e street art réalisée par les artistes Craig Ferlay\, Emer\, Angélique 
 et Charli puis place à la fête avec pique-nique partagé sorti du sac\, 
 petit apéro offert et la fanfare de la Bande à Migou.\nhttp://www.agenda
 bulle.fr/event/2026/4/26/2094-running-culturel\nhttps://www.meylan.fr/agen
 da/1966/41-running-culturel.htm?ID_AGENDAPERIODE=3606
IMAGE;VALUE=URI:http://www.agendabulle.fr/media/bfd2a776-6cca-443d-ac5c-29
 6801189cbb.jpg
LOCATION:Stade des Buclos\, 53 Bd des Alpes\, 38240 Meylan\, Meylan
NAME:Running culturel
END:VEVENT
BEGIN:VEVENT
SUMMARY:[PAAD] Permanence d’autodéfense pour l’accès aux droits
DTSTART;TZID=Europe/Paris:20260507T140000
DTEND;TZID=Europe/Paris:20260507T160000
DTSTAMP:20260420T131836Z
UID:5a23a0a68ccad98e19eac44f3020c9bb@agendabulle.fr
DESCRIPTION:!  Il n'y aura pas de permanence le 25 décembre 2025 ni le 1
  janvier 2026  !\n\nGalères de papiers ? Questions autour de la CAF\, de
  Pole Emploi\, de la sécurité sociale\, ou encore des titres de séjour\
 , de l'asile\, des droits sociaux ? Des dossiers à remplir ? Contacts d'a
 vocats\, d'associations\, de syndicats ... Aide administrative ou juridiqu
 e ... Accès internet\, photocopies... Les PAAD (Permanences d'Autodéfens
 e pour l'Accès aux droits) proposent de vous aider dans les démarches in
 fernales administratives et juridiques. Que ce soit pour remplir un dossie
 r\, trouver des lieux-accueils-assos... ou être en lien avec des avocat.e
 s\, ou autres professionnels. Nous faisons ça parce que toutes ces démar
 ches relèvent d'un parcours sportif haut niveau. Les administrations sont
  débordées\, ou participent à complexifier nos demandes. Elles suivent 
 des directives gouvernementales racistes et anti-pauvres\, et qui cherchen
 t à réduire nos aides sociales. Nous voulons faire de l'entraide face à
  toutes ces démarches\, histoire de les rendre moins pénibles\, d'être 
 moins seul.es\, et d'éviter les pièges dans lesquels les administrations
  veulent nous faire tomber. Tous les Jeudi\n\nDe 14h00 a 17h00\n\nAu Lokal
  Autogeré 7 rue Pierre Dupont Grenoble\n\nTram C et E Vallier-Liberation.
  Si vous ne pouvez pas passer le jeudi\, vous pouvez nous contacter: paad 
 [at] riseup [.] net /\n\n* * * Paper issues ? CAF\, Pôle Emploi\, ... Que
 stions around residence permit Lawyers\, associations contact details Admi
 nistrative and legal advice Internet access\, copies We propose to help yo
 u in fulfilling folders\, finding associations/ structures\, or finding so
 cial workers/ lawyers contacts. All those administrations steps are hard a
 nd complicated. The administrations are either overwhelmed or make it even
  harder. They follow racist governmental orders which try to reduce our so
 cial rights. Against that\, we want to help each other\, be less alone\, a
 nd avoid administrative traps. Every Thursday from 2:00 p.m. to 5:00 p.m. 
 at Lokal Autogeré\, 7 rue Pierre Dupont\, Grenoble Tram C and E Vallier-L
 iberation. If you can't come thursday\, you can contact us: paad [at] rise
 up [.] net\nhttp://www.agendabulle.fr/event/2026/5/7/2302-paad-permanence-
 dautodefense-pour-lacces-aux-droits\nhttps://www.le-tamis.info/evenement/p
 aad-permanence-dautodefense-pour-lacces-aux-dr-2
LOCATION:Le Local Autogéré\, 7 Rue Pierre Dupont\, Grenoble
NAME:[PAAD] Permanence d’autodéfense pour l’accès aux droits
END:VEVENT
BEGIN:VEVENT
SUMMARY:[PAAD] Permanence d’autodéfense pour l’accès aux droits
DTSTART;TZID=Europe/Paris:20260423T140000
DTEND;TZID=Europe/Paris:20260423T160000
DTSTAMP:20260420T131836Z
UID:a324d1d2ec8f31631f53bf1ce6e29e04@agendabulle.fr
DESCRIPTION:!  Il n'y aura pas de permanence le 25 décembre 2025 ni le 1
  janvier 2026  !\n\nGalères de papiers ? Questions autour de la CAF\, de
  Pole Emploi\, de la sécurité sociale\, ou encore des titres de séjour\
 , de l'asile\, des droits sociaux ? Des dossiers à remplir ? Contacts d'a
 vocats\, d'associations\, de syndicats ... Aide administrative ou juridiqu
 e ... Accès internet\, photocopies... Les PAAD (Permanences d'Autodéfens
 e pour l'Accès aux droits) proposent de vous aider dans les démarches in
 fernales administratives et juridiques. Que ce soit pour remplir un dossie
 r\, trouver des lieux-accueils-assos... ou être en lien avec des avocat.e
 s\, ou autres professionnels. Nous faisons ça parce que toutes ces démar
 ches relèvent d'un parcours sportif haut niveau. Les administrations sont
  débordées\, ou participent à complexifier nos demandes. Elles suivent 
 des directives gouvernementales racistes et anti-pauvres\, et qui cherchen
 t à réduire nos aides sociales. Nous voulons faire de l'entraide face à
  toutes ces démarches\, histoire de les rendre moins pénibles\, d'être 
 moins seul.es\, et d'éviter les pièges dans lesquels les administrations
  veulent nous faire tomber. Tous les Jeudi\n\nDe 14h00 a 17h00\n\nAu Lokal
  Autogeré 7 rue Pierre Dupont Grenoble\n\nTram C et E Vallier-Liberation.
  Si vous ne pouvez pas passer le jeudi\, vous pouvez nous contacter: paad 
 [at] riseup [.] net /\n\n* * * Paper issues ? CAF\, Pôle Emploi\, ... Que
 stions around residence permit Lawyers\, associations contact details Admi
 nistrative and legal advice Internet access\, copies We propose to help yo
 u in fulfilling folders\, finding associations/ structures\, or finding so
 cial workers/ lawyers contacts. All those administrations steps are hard a
 nd complicated. The administrations are either overwhelmed or make it even
  harder. They follow racist governmental orders which try to reduce our so
 cial rights. Against that\, we want to help each other\, be less alone\, a
 nd avoid administrative traps. Every Thursday from 2:00 p.m. to 5:00 p.m. 
 at Lokal Autogeré\, 7 rue Pierre Dupont\, Grenoble Tram C and E Vallier-L
 iberation. If you can't come thursday\, you can contact us: paad [at] rise
 up [.] net\nhttp://www.agendabulle.fr/event/2026/4/23/2301-paad-permanence
 -dautodefense-pour-lacces-aux-droits\nhttps://www.le-tamis.info/evenement/
 paad-permanence-dautodefense-pour-lacces-aux-dr-2
LOCATION:Le Local Autogéré\, 7 Rue Pierre Dupont\, Grenoble
NAME:[PAAD] Permanence d’autodéfense pour l’accès aux droits
END:VEVENT
BEGIN:VEVENT
SUMMARY:[PAAD] Permanence d’autodéfense pour l’accès aux droits
DTSTART;TZID=Europe/Paris:20260430T140000
DTEND;TZID=Europe/Paris:20260430T160000
DTSTAMP:20260420T131836Z
UID:428fb799fce8b5a9c2d0e26a51c737ab@agendabulle.fr
DESCRIPTION:!  Il n'y aura pas de permanence le 25 décembre 2025 ni le 1
  janvier 2026  !\n\nGalères de papiers ? Questions autour de la CAF\, de
  Pole Emploi\, de la sécurité sociale\, ou encore des titres de séjour\
 , de l'asile\, des droits sociaux ? Des dossiers à remplir ? Contacts d'a
 vocats\, d'associations\, de syndicats ... Aide administrative ou juridiqu
 e ... Accès internet\, photocopies... Les PAAD (Permanences d'Autodéfens
 e pour l'Accès aux droits) proposent de vous aider dans les démarches in
 fernales administratives et juridiques. Que ce soit pour remplir un dossie
 r\, trouver des lieux-accueils-assos... ou être en lien avec des avocat.e
 s\, ou autres professionnels. Nous faisons ça parce que toutes ces démar
 ches relèvent d'un parcours sportif haut niveau. Les administrations sont
  débordées\, ou participent à complexifier nos demandes. Elles suivent 
 des directives gouvernementales racistes et anti-pauvres\, et qui cherchen
 t à réduire nos aides sociales. Nous voulons faire de l'entraide face à
  toutes ces démarches\, histoire de les rendre moins pénibles\, d'être 
 moins seul.es\, et d'éviter les pièges dans lesquels les administrations
  veulent nous faire tomber. Tous les Jeudi\n\nDe 14h00 a 17h00\n\nAu Lokal
  Autogeré 7 rue Pierre Dupont Grenoble\n\nTram C et E Vallier-Liberation.
  Si vous ne pouvez pas passer le jeudi\, vous pouvez nous contacter: paad 
 [at] riseup [.] net /\n\n* * * Paper issues ? CAF\, Pôle Emploi\, ... Que
 stions around residence permit Lawyers\, associations contact details Admi
 nistrative and legal advice Internet access\, copies We propose to help yo
 u in fulfilling folders\, finding associations/ structures\, or finding so
 cial workers/ lawyers contacts. All those administrations steps are hard a
 nd complicated. The administrations are either overwhelmed or make it even
  harder. They follow racist governmental orders which try to reduce our so
 cial rights. Against that\, we want to help each other\, be less alone\, a
 nd avoid administrative traps. Every Thursday from 2:00 p.m. to 5:00 p.m. 
 at Lokal Autogeré\, 7 rue Pierre Dupont\, Grenoble Tram C and E Vallier-L
 iberation. If you can't come thursday\, you can contact us: paad [at] rise
 up [.] net\nhttp://www.agendabulle.fr/event/2026/4/30/2303-paad-permanence
 -dautodefense-pour-lacces-aux-droits\nhttps://www.le-tamis.info/evenement/
 paad-permanence-dautodefense-pour-lacces-aux-dr-2
LOCATION:Le Local Autogéré\, 7 Rue Pierre Dupont\, Grenoble
NAME:[PAAD] Permanence d’autodéfense pour l’accès aux droits
END:VEVENT
BEGIN:VEVENT
SUMMARY:Course caritative Réarun 2026
DTSTART;TZID=Europe/Paris:20260425T140000
DTEND;TZID=Europe/Paris:20260425T160000
DTSTAMP:20260420T025203Z
UID:27b86d1a9b4ab562691b133b97a4cca3@agendabulle.fr
DESCRIPTION:Venez courir pour la bonne cause en participant à la premièr
 e course caritative de l'Association Réanimation Grenoble !\n\nAu choix :
  des courses de 5 km ou 10 km et un parcours de marche de 5 km\, avec des 
 lots à gagner !\n\nA noter : les courses ne seront pas chronométrées af
 in de privilégier le plaisir et le fair-play.\n\nDes animations ouvertes 
 à tous seront également proposées\, ainsi qu'une initiation aux gestes 
 de premiers secours\, animée par les Sauveteurs Secouristes Grenoblois.\n
 \nCet événement porte un véritable enjeu d'intérêt général :\nhttp:
 //www.agendabulle.fr/event/2026/4/25/2090-course-caritative-rearun-2026\nh
 ttps://www.meylan.fr/agenda/1998/41-course-caritative-rearun-2026.htm?ID_A
 GENDAPERIODE=3656
IMAGE;VALUE=URI:http://www.agendabulle.fr/media/1a87e85b-b561-429a-93b0-7d
 fe8f364a0a.jpg
LOCATION:Parking de Décathlon La Tronche\, 5 Av. du Grand Sablon\, 38700 
 La Tronche\, La Tronche
NAME:Course caritative Réarun 2026
END:VEVENT
BEGIN:VEVENT
SUMMARY:Mercredi c'sport
DTSTART;TZID=Europe/Paris:20260429T140000
DTEND;TZID=Europe/Paris:20260429T160000
DTSTAMP:20260420T023654Z
UID:71660ad215e374b1c866e2899d2271c9@agendabulle.fr
DESCRIPTION:Accueil sportif de proximité avec une proposition d'ateliers 
 variés : biathlon\, escrime\, karaté\, cirque... 16 Place Saint Bruno 38
 000 Grenoble Secteur 1 14h00 à 16h30 Annulation en cas de mauvais temps.\
 nhttp://www.agendabulle.fr/event/2026/4/29/710-mercredi-csport\nhttps://ww
 w.grenoble.fr/agenda/6250/617-mercredi-c-sport.htm
LOCATION:Square Saint-Bruno\, 16 Place Saint Bruno 38000 Grenoble\, Grenob
 le
NAME:Mercredi c'sport
END:VEVENT
BEGIN:VEVENT
SUMMARY:Basket NM3 - Grenoble / Corse
DTSTART;TZID=Europe/Paris:20260418T150000
DTEND;TZID=Europe/Paris:20260418T170000
DTSTAMP:20260418T190649Z
UID:ca394cc00d4adf01eba05f72f3ca9b71@agendabulle.fr
DESCRIPTION:Le Grenoble Basket 38 reçoit l'Union Casinca Centre Corse Bas
 ketball Lorgues pour une nouvelle rencontre de Nationale Masculine 3. À p
 artir de 15h\, l’équipe grenobloise tentera de s’imposer devant son p
 ublic dans un match engagé et spectaculaire. Le public est attendu nombre
 ux pour encourager les joueurs dans une ambiance chaleureuse avec buvette 
 sur place. Un rendez-vous sportif accessible à tous\, idéal pour les pas
 sionnés de basket comme pour les familles. 7 Rue François Raoult 38000 G
 renoble Secteur 2\nhttp://www.agendabulle.fr/event/2026/4/18/2054-basket-n
 m3-grenoble-corse\nhttps://www.grenoble.fr/agenda/5651/79-basket-nm3-greno
 ble-corse.htm
IMAGE;VALUE=URI:http://www.agendabulle.fr/media/948f23b9-1daa-4d07-a567-a9
 72db9abf21.jpg
LOCATION:Centre Sportif Hoche\, 7 Rue François Raoult 38000 Grenoble\, Gr
 enoble
NAME:Basket NM3 - Grenoble / Corse
END:VEVENT
BEGIN:VEVENT
SUMMARY:Sophro' Yoga
DTSTART;TZID=Europe/Paris:20260506T150000
DTEND;TZID=Europe/Paris:20260506T161500
DTSTAMP:20260420T022608Z
UID:3aa0927c9c426d2bc712d260cd627e9a@agendabulle.fr
DESCRIPTION:🕉️ Découvrez le Sophro’Yoga : l’alliance parfaite en
 tre la pratique de la sophrologie et celle du yoga pour un bien-être comp
 let.\n\n🧘‍♀️ En combinant postures\, relaxation guidée et techni
 ques de respiration\, vous développerez une meilleure harmonie corps-espr
 it et  et vous serez ressourcé(e).\n\n💫 Ne manquez pas cette occasion 
 unique de prendre soin de vous.\nPensez à apporter un plaid pour vous cou
 vrir\, une bouteille d'eau et un tapis de yoga 🧘\nTarifs : solidaire : 
 10 € (limité à 4 places) / normal  : 15 € / soutien : 20 € \n📅 
 Inscription obligatoire 💬 eveildore.sophro@gmail.com\n\nPar Valérie La
 borde\, Sophrologue\, certifiée RNCP\n\n \n \n \n☕ Cette animation a li
 eu durant les temps du café associatif\, nous demandons une adhésion pou
 r pouvoir consommer. L’adhésion est à prix libre (dès 0€). N’hés
 itez pas à venir en avance\, si vous souhaitez adhérer ou consommer au c
 afé asso ! Vous pouvez dès-à-présent adhérer via ce lien : https://ww
 w.helloasso.com/associations/cultivons-nos-toits/adhesions/adhesion-annuel
 le-2026 ☕\n\n\nhttp://www.agendabulle.fr/event/2026/5/6/24-sophro-yoga\n
 https://www.facebook.com/events/1528128428315755/1528128438315754/
IMAGE;VALUE=URI:http://www.agendabulle.fr/media/05be65c8-3783-4c3c-96da-a5
 ff8671c471.jpg
LOCATION:Le Bar Radis\, 15 rue Gustave Flaubert\, grenoble
NAME:Sophro' Yoga
END:VEVENT
BEGIN:VEVENT
SUMMARY:Sophro' Yoga
DTSTART;TZID=Europe/Paris:20260603T150000
DTEND;TZID=Europe/Paris:20260603T161500
DTSTAMP:20260420T022608Z
UID:489782b9576fccd2f4b52e9acbfdcf46@agendabulle.fr
DESCRIPTION:🕉️ Découvrez le Sophro’Yoga : l’alliance parfaite en
 tre la pratique de la sophrologie et celle du yoga pour un bien-être comp
 let.\n\n🧘‍♀️ En combinant postures\, relaxation guidée et techni
 ques de respiration\, vous développerez une meilleure harmonie corps-espr
 it et  et vous serez ressourcé(e).\n\n💫 Ne manquez pas cette occasion 
 unique de prendre soin de vous.\nPensez à apporter un plaid pour vous cou
 vrir\, une bouteille d'eau et un tapis de yoga 🧘\nTarifs : solidaire : 
 10 € (limité à 4 places) / normal  : 15 € / soutien : 20 € \n📅 
 Inscription obligatoire 💬 eveildore.sophro@gmail.com\n\nPar Valérie La
 borde\, Sophrologue\, certifiée RNCP\n\n \n \n \n☕ Cette animation a li
 eu durant les temps du café associatif\, nous demandons une adhésion pou
 r pouvoir consommer. L’adhésion est à prix libre (dès 0€). N’hés
 itez pas à venir en avance\, si vous souhaitez adhérer ou consommer au c
 afé asso ! Vous pouvez dès-à-présent adhérer via ce lien : https://ww
 w.helloasso.com/associations/cultivons-nos-toits/adhesions/adhesion-annuel
 le-2026 ☕\n\n\nhttp://www.agendabulle.fr/event/2026/6/3/25-sophro-yoga\n
 https://www.facebook.com/events/1528128428315755/1528128434982421/
IMAGE;VALUE=URI:http://www.agendabulle.fr/media/f73740ee-996d-4744-aba3-d4
 b983e60fe1.jpg
LOCATION:Le Bar Radis\, 15 rue Gustave Flaubert\, grenoble
NAME:Sophro' Yoga
END:VEVENT
BEGIN:VEVENT
SUMMARY:Tournoi de coinche !
DTSTART;TZID=Europe/Paris:20260428T190000
DTEND;TZID=Europe/Paris:20260428T210000
DTSTAMP:20260420T024607Z
UID:f5760092f244ca0a0da815437738bf16@agendabulle.fr
DESCRIPTION:Viens participer à notre tournoi de coinche mensuel !\n\nTous
  les derniers mardis du mois\, La Bouillotte te propose de venir tester te
 s skills de coinche lors d'un tournoi convivial ! Que tu sois débutant.e 
 ou joueur.euse confirmé.e\, tu es le.la bienvenu.e ! A gagner : un verre
  et un tapas à partager avec ton.ta coéquipier.e :) Alors plus d'excuses
 \, on t'attend tous les derniers mardis du mois !\nhttp://www.agendabulle.
 fr/event/2026/4/28/1661-tournoi-de-coinche\nhttps://labouillotte38.wixsite
 .com/la-bouillotte/event-details/tournoi-de-coinche-2026-04-28-19-00
IMAGE;VALUE=URI:http://www.agendabulle.fr/media/3a96b9e7-4a71-4bd4-b0ec-3c
 d0b55d38d6.jpg
LOCATION:La Bouillotte\, 21 Rue Boucher de Perthes\, 38000 Grenoble\, Gren
 oble
NAME:Tournoi de coinche !
END:VEVENT
BEGIN:VEVENT
SUMMARY:Le Super Five // Tournoi Match d'Impro // Tribu
DTSTART;TZID=Europe/Paris:20260423T200000
DTEND;TZID=Europe/Paris:20260423T220000
DTSTAMP:20260420T022359Z
UID:4100c0089b9303d053bd133987c95e1c@agendabulle.fr
DESCRIPTION:THEATRE D'IMPROVISATION\nTournoi de Match Impro\n\n➡️ Jeud
 i 23 Avril 2026\n20h00- 22h00 avec entractes\nPrix libre et conscient\n\n
 📍 La Crique Sud\n11 Bd Agutte Sembat\n38000 Grenoble\nhttp://www.agenda
 bulle.fr/event/2026/4/23/2131-le-super-five-tournoi-match-dimpro-tribu\nht
 tps://www.facebook.com/events/1456617582016439/
IMAGE;VALUE=URI:http://www.agendabulle.fr/media/bb9fb504-04c8-4c02-bc3d-bb
 6300678de1.jpg
LOCATION:La Crique Sud\, 11 boulevard Agutte-Sembat\, grenoble
NAME:Le Super Five // Tournoi Match d'Impro // Tribu
END:VEVENT
BEGIN:VEVENT
SUMMARY:Chica Chique Sess #10
DTSTART;VALUE=DATE:20260417
DTEND;VALUE=DATE:20260418
DTSTAMP:20260417T185554Z
UID:c2e157770bd34c98a0ab449c298418f4@agendabulle.fr
DESCRIPTION:La Chica Chique Sess est un événement pionnier mettant en av
 ant le skateboard et le roller quad dans un cadre inclusif. Lors de ce wee
 kend festif\, débutant·es ou expert·es sont invité·es à se réapprop
 rier l’espace et à repousser leurs limites ! Pour cette 10e édition\, 
 le collectif Chica Chique Sess\, membre de Alpine Skate Culture\, étoffe 
 et diversifie son programme pour accueillir pratiquant·es\, spectateur·r
 ices et habitant·es du vendredi soir au dimanche après-midi au skatepark
  de la Bifurk\, lieu emblématique du skate à Grenoble. L'inscription aux
  défis est réservé aux femmes et minorités de genre. Restauration sur 
 place samedi et dimanche.\nhttp://www.agendabulle.fr/event/2026/4/17/2059-
 chica-chique-sess-10\nhttps://www.grenoble.fr/agenda/6294/79-chica-chique-
 sess-10.htm
IMAGE;VALUE=URI:http://www.agendabulle.fr/media/3f2f08ed-37e2-4756-afb2-ca
 e34d655112.jpg
LOCATION:La Bifurk\, 2 rue Gustave Flaubert\, Grenoble\, France\, 38100\, 
 Grenoble
NAME:Chica Chique Sess #10
END:VEVENT
END:VCALENDAR
