BEGIN:VCALENDAR
VERSION:2.0
PRODID:-//AgendaBulle//https://agendabulle.fr//
BEGIN:VEVENT
SUMMARY:Festival BD de Grenoble 2026
DTSTART;TZID=Europe/Paris:20260606T100000
DTEND;TZID=Europe/Paris:20260607T170000
DTSTAMP:20260419T022306Z
UID:5d53ee3d42f2011bc07694fea71e9029@agendabulle.fr
DESCRIPTION:Vous l'avez adoré l'année dernière\, il est de retour !\nOn
  vous donne rendez-vous les 6 et 7 juin prochain au Festival BD de Grenobl
 e 2026\, 3e édition ☀️\nVenez nous retrouver pour faire dédicacer vo
 s plus beaux albums\, découvrir les talents de la région grenobloise\, t
 ester vos dons de dessinateur.trice\,... et plein d'autres choses encore !
 \n\n\n**Programmation à venir**\n\n\n** INFOS PRATIQUES **\n\n🎟️ Ent
 rée à prix libre\n\n📚 Librairie Arthaud et bouquinerie Bulle en Chart
 reuse disponibles sur place pour vos achats de BD neuves et d'occasion\n\n
 🥤 Bar par La Bonne Fabrique\n\nPour nous soutenir\, faites un don ici :
 \nhttps://www.helloasso.com/associations/grenoble-bd/formulaires/2\nhttp:/
 /www.agendabulle.fr/event/2026/6/6/2061-festival-bd-de-grenoble-2026\nhttp
 s://www.facebook.com/events/1510467170759161/
IMAGE;VALUE=URI:http://www.agendabulle.fr/media/4f833a79-0aff-4fe8-a169-39
 8d71cbb166.jpg
LOCATION:Cap Berriat\, 21 Rue Boucher de Perthes\, 38000 Grenoble\, Grenob
 le
NAME:Festival BD de Grenoble 2026
END:VEVENT
BEGIN:VEVENT
SUMMARY:Festival arts du fil "Fil Better"
DTSTART;TZID=Europe/Paris:20260509T120000
DTEND;TZID=Europe/Paris:20260509T140000
DTSTAMP:20260422T224447Z
UID:6062467b88e9041dda52fc8c84df00d9@agendabulle.fr
DESCRIPTION:- Do It Yourself - Féminisme - Créativité - Récup' -\n\n
 ♥ Ateliers créatifs : broderie\, écriture\, crochet\, création de tap
 is... ♥ Démonstrations techniques (machine à tricoter\, tufting\, fila
 ge...) ♥ Zone de gratuité pour le matériel créatif (amène ce que tu 
 veux donner !) ♥ Craft party ! ♥ Et aussi des trucs à grignoter\, des
  livres à feuilleter\, des créations textiles exposées...\n\nDe midi à
  22h. Prix libre pour l'entrée & pour chaque atelier. Le programme détai
 llé des ateliers sera dispo avant l'évènement.\n\nEn partie non accessi
 ble aux personnes se déplaçant en fauteuil roulant : contactez-nous si v
 ous avez besoin de plus de détails : fil_better@protonmail.com\nhttp://ww
 w.agendabulle.fr/event/2026/5/9/2355-festival-arts-du-fil-fil-better\nhttp
 s://www.le-tamis.info/evenement/festival-arts-du-fil-fil-better
LOCATION:Le 102\, 102 Rue d'Alembert\, Grenoble
NAME:Festival arts du fil "Fil Better"
END:VEVENT
BEGIN:VEVENT
SUMMARY:IMPRESSIONNANT - Festival des métiers de l'impression artisanale
DTSTART;TZID=Europe/Paris:20260424T170000
DTEND;TZID=Europe/Paris:20260425T200000
DTSTAMP:20260422T220541Z
UID:65a866759c50ed4d55a406066f86f8ae@agendabulle.fr
DESCRIPTION:Un événement dédié à l’impression artisanale : rencontr
 es avec des artistes\, marché\, ateliers\, expérimentations et expositio
 n autour de l’image imprimée.\n\nLe festival est ouvert à toutes et to
 us : artistes\, curieux\, amateurs ou simplement celles et ceux qui aiment
  découvrir de nouvelles techniques.\n\nAu programme : marché d’artiste
 s\, ateliers\, initiations et moments d’échanges.\n\n\nHORAIRES ET PORG
 RAMME :\n\nVendredi 24 avril\n17h à 20h :  Marché d’artistes et d'arti
 sans\n\nSamedi 25 avril\n9h30-13h30 : Ateliers sur inscription (liste et l
 iens inscription ci-dessous)\n14h à 20h :  Marché d’artistes et d'arti
 sans\nAteliers à prix libre l'après-midi\n\n\nLES TALENTS DU FESTIVAL :\
 n\n🧑‍🎨 Studio W. - Cyanotype - créer son propre cyanotype de form
 at A5\n🧑‍🎨 Studio Mouillette - Linogravure - Gravure et impression
  lino sur supports mixtes (tissu\, papier\, carton...) \n🧑‍🎨 Flor 
 Pistan - Linogravure et pointe sèche - Atelier d'initiation à la linogra
 vure\n🧑‍🎨 PUFF - collage et stickers - initiation au collage\n🧑
 ‍🎨 La Patchographie - sérigraphie - atelier de sérigraphie patch et
  pochoir\n🧑‍🎨 GrrrRiso - risographie - initiation à la risographi
 e en bichromie\n\n\nLES ATELIERS ET ANIMATIONS :\n\nVENDREDI 24 AVRIL \n\n
 🎨 18h00 – 19h30 – Visite street art XXS (PUFF)\nExploration des pet
 ites œuvres de street art dans l’hypercentre de Grenoble : collages\, p
 ochoirs et créations discrètes que l’on croise souvent sans les voir.\
 n👉 Inscription : https://www.helloasso.com/associations/paste-up-festiv
 al-france/evenements/impressionnant-visite-street-art-xxs-hypercentre-gren
 oble-24-avril-2026\n\n\nSAMEDI 25 AVRIL\n\nMATIN – ATELIERS SUR INSCRIPT
 ION (9h30 – 13h30)\n\n🎨 À la découverte du cyanotype avec Studio W 
 (@studio.w__)\n9h30 – 11h00 ou 11h45 – 13h15\n👉 Inscription : https
 ://studio-w.eu/events/festival-impressionnant-atelier-a-la-decouverte-du-c
 yanotype/\n\n\n🎨 Initiation à la linogravure avec Studio Mouillette (@
 studio__mouillette)\n10h00 – 13h30\nApprendre à graver\, encrer et impr
 imer une plaque de linoléum.\n👉 Inscription https://docs.google.com/fo
 rms/d/e/1FAIpQLSdfo2m8Zovg7N8GBb4Ymfeuj0g2dtVX5zQGVNV8SdhtKiSsxQ/viewform\
 n\n\n🎨 Sérigraphie et création textile – La Patchographie (@lapatch
 ographie\n\nCréation de patchs en série limitée et participation à une
  œuvre collective.\n👉 Inscription : https://www.billetweb.fr/la-patcho
 graphie-au-minimistan\n\n\n🎨 Initiation à la linogravure avec Flor Pis
 tan Linogravure\nDurée : 2h30 / 3h\nInscription : par mail à florencia.p
 istan@allpa.fr\n\n\n✂️ Atelier collage street art – Association PUFF
  👇\n10h00 – 11h30 ou 12h00 – 13h30\nInitiez-vous à la technique du
  collage autour du thème du végétal et repartez avec votre œuvre perso
 nnalisée.\n\n10h00 – 11h30\n👉 Inscriptions : https://www.helloasso.c
 om/associations/paste-up-festival-france/evenements/impressionnant-atelier
 -collage-25-avril-2026\n\n12h00 – 13h30\n👉 Inscriptions : https://www
 .helloasso.com/associations/paste-up-festival-france/evenements/impression
 nant-atelier-collage-25-avril-2026-2\n\n\nAPRÈS - MIDI  :\n\n14h00 – 20
 h00\nMarché d’artistes et d’artisans\n\n\nATELIERS À PRIX LIBRE (MIN
 IMUM DEMANDÉ)\n\n🎨 Création de stickers avec l’association PUFF\n\n
 Dessinez\, découpez et créez vos propres stickers en découvrant l’uni
 vers du street art.\n\n17h00 – 18h00\n👉 Inscriptions : https://www.he
 lloasso.com/associations/paste-up-festival-france/evenements/impressionnan
 t-atelier-stikers-25-avril\n\n18h00 – 19h00\n👉 Inscriptions : https:/
 /www.helloasso.com/associations/paste-up-festival-france/evenements/impres
 sionnant-atelier-stikers-25-avril-2\n\n\n🎨 Table de création ouverte 
 – La Patchographie\nExpérimentations autour de l’impression\, du text
 ile et du collage.\nParticipation libre à partir de 15€.\n\n\n🚶 VISI
 TES STREET ART - ASSOCIATION PUFF\n\n16h00 – 17h30 – Visite street art
  XXS (Grenoble centre)\nExploration des collages\, pochoirs et œuvres dis
 crètes de l’hypercentre.\n👉 Inscriptions : https://www.helloasso.com
 /associations/paste-up-festival-france/evenements/impressionnant-visite-st
 reet-art-xxs-hypercentre-grenoble-25-avril-2026-2\n\n18h00 – 19h00 – V
 isite street art des murs du Minimistan\nDécouverte de la fresque de coll
 ages réalisée par des centaines d’artistes internationaux.\n👉 Inscr
 iptions : https://www.helloasso.com/associations/paste-up-festival-france/
 evenements/impressionnant-visite-street-art-murs-minimistan-25-avril-2026\
 n\n\n\n\n\n\n\n\n\n\n\n\n\n\n \n\n\n\n\n\n\n\n\n\n\n\n\nhttp://www.agendab
 ulle.fr/event/2026/4/24/9-impressionnant-festival-des-metiers-de-limpressi
 on-artisanale\nhttps://www.facebook.com/events/959447660073464/
IMAGE;VALUE=URI:http://www.agendabulle.fr/media/ef136eed-e85d-4188-90fc-12
 1842ba9d91.jpg
LOCATION:Minimistan\, 1 rue des minimes\, grenoble
NAME:IMPRESSIONNANT - Festival des métiers de l'impression artisanale
END:VEVENT
BEGIN:VEVENT
SUMMARY:Impressionnant : festival des métiers de l'impression artisanale
DTSTART;TZID=Europe/Paris:20260425T170000
DTEND;TZID=Europe/Paris:20260425T190000
DTSTAMP:20260422T223652Z
UID:b2e867cd3d89d1d856cd4e6a5b37cc2f@agendabulle.fr
DESCRIPTION:Un événement dédié à l’impression artisanale : rencontr
 es avec des artistes\, marché\, ateliers\, expérimentations et expositio
 n autour de l’image imprimée.\n\nUn événement dédié à l’impressi
 on artisanale : rencontres avec des artistes\, marché\, ateliers\, expér
 imentations et exposition autour de l’image imprimée. Le festival est o
 uvert à toutes et tous : artistes\, curieux\, amateurs ou simplement cell
 es et ceux qui aiment découvrir de nouvelles techniques. Au programme : m
 arché d’artistes\, ateliers\, initiations et moments d’échanges.\n\n
 HORAIRES ET PORGRAMME : Vendredi 24 avril 17h à 20h : Marché d’artiste
 s et d'artisans Samedi 25 avril 9h30-13h30 : Ateliers sur inscription (lis
 te et liens inscription ci-dessous) 14h à 20h : Marché d’artistes et d
 'artisans Ateliers à prix libre l'après-midi\n\nARTISTES ET INTERVENANT.
 ES DU FESTIVAL : (la liste peut évoluer) Studio W. - Cyanotype - créer s
 on propre cyanotype de format A5 Studio Mouillette - Linogravure - Gravure
  et impression lino sur supports mixtes (tissu\, papier\, carton...) Flor 
 Pistan - Linogravure et pointe sèche - Atelier d'initiation à la linogra
 vure PUFF - collage et stickers - initiation au collage La Patchographie -
  sérigraphie - atelier de sérigraphie patch et pochoir GrrrRiso - risogr
 aphie - initiation à la risographie en bichromie\nhttp://www.agendabulle.
 fr/event/2026/4/25/2290-impressionnant-festival-des-metiers-de-limpression
 -artisanale\nhttps://www.grenoble-tourisme.com/fr/decouvrir/evenements/age
 nda/detail/impressionnant-festival-des-metiers-de-l-impression-artisanale-
 7767024/
IMAGE;VALUE=URI:http://www.agendabulle.fr/media/dcd4ce24-90c7-4b5e-8f11-de
 62538e3e76.jpg
LOCATION:Minimistan\, 1 rue des minimes\, grenoble
NAME:Impressionnant : festival des métiers de l'impression artisanale
END:VEVENT
BEGIN:VEVENT
SUMMARY:Apéro bénévole n°3 
DTSTART;TZID=Europe/Paris:20260413T190000
DTEND;TZID=Europe/Paris:20260413T210000
DTSTAMP:20260413T022610Z
UID:0b25724c35fbf8c47aee54ba120f1165@agendabulle.fr
DESCRIPTION:Bonjour !\n\nC'est le troisième et dernier apéro bénévole 
 avant le festival ! \n\n(y en aura encore après 🙃)\n\nC'est un moment 
 pour se rencontrer\, faire connaissance\, poser vos questions si vous en a
 vez et surtout passer un bon moment !!!!\n\nOn ramène un peu à boire et 
 à grignoter\, on vous fera une petite description de l'événement et des
  différents pôles.\n\nIl nous manque encore pas mal de bénévoles pour 
 être sur les places et passer les chapeaux \nalors n'hésitez surtout pas
  à ramener vos potes\, c'est ouvert à tout le monde !\n\nLien du formula
 ire\n\nhttps://forms.gle/CVFwzfWFoXFFmcvv6\n\n\nhttp://www.agendabulle.fr/
 event/2026/4/13/526-apero-benevole-n3\nhttps://www.facebook.com/events/229
 3864924441953/
IMAGE;VALUE=URI:http://www.agendabulle.fr/media/9a386271-f3f6-4782-9e8e-d0
 6afea73bef.jpg
LOCATION:Jardin de Ville\, Grenoble
NAME:Apéro bénévole n°3 
END:VEVENT
BEGIN:VEVENT
SUMMARY:Ça Cinéma / Festival étudiant de courts-métrages
DTSTART;TZID=Europe/Paris:20260422T190000
DTEND;TZID=Europe/Paris:20260422T210000
DTSTAMP:20260422T223013Z
UID:3bd9e591f8610fd6b3853c5174b6182b@agendabulle.fr
DESCRIPTION:Les étudiants et étudiantes de L3 Arts du spectacle reprenne
 nt le flambeau du rendez-vous incontournable : Ça Cinéma festival de cou
 rts-métrages\, et vous proposent une programmation riche en couleurs et e
 n émotions. Répartis sur trois soirées\, les courts-métrages explorero
 nt les thèmes du Choc\, de l’In/visible\, mais aussi de l’Art de la r
 upture ! Une programmation folle et audacieuse vous attend ! Également le
  20 avril à la Cinémathèque et le 21 avril au cinéma Le Club. Infos pr
 atiques : Événement gratuit\, sur réservation\, ouvert à tous et toute
 s. Accéder à la billetterie en ligne Crédits photo : © Clara Guibert\n
 http://www.agendabulle.fr/event/2026/4/22/1496-ca-cinema-festival-etudiant
 -de-courts-metrages\nhttps://www.univ-grenoble-alpes.fr/actualites/agenda/
 agenda-culture/ca-cinema-festival-etudiant-de-courts-metrages-1716713.kjsp
IMAGE;VALUE=URI:http://www.agendabulle.fr/media/db231f8d-ec19-4e1d-a0eb-4a
 e02503c13f.jpg
LOCATION:place du Torrent\, 161 place du Torrent Saint-Martin-d'Hères\, S
 aint-Martin-d'Hères
NAME:Ça Cinéma / Festival étudiant de courts-métrages
END:VEVENT
BEGIN:VEVENT
SUMMARY:Multimédi'Alpes / Festival
DTSTART;TZID=Europe/Paris:20260617T190000
DTEND;TZID=Europe/Paris:20260617T210000
DTSTAMP:20260422T223022Z
UID:f8e3eb0744a109d01fa7c45a04ce9c46@agendabulle.fr
DESCRIPTION:Le festival Multimédi’Alpes a été créé par et pour les 
 étudiantes et les étudiants du BUT Métiers du Multimédia et de l’Int
 ernet. Les gagnants seront révélés et récompensés par un jury compos
 é d’enseignants et de professionnels\, parmi dix catégories en lice : 
 narration\, photo\, illustration\, développement web\, design web\, desig
 n graphique\, audiovisuel de création\, audiovisuel documentaire\, son et
  motion design. Un prix du public sera également décerné ! La soirée s
 e clôturera avec un mini concert. Retrouvez-les sur Instagram : @mmigreno
 ble et sur LinkedIn : mmi grenoble Infos pratiques : Événement gratuit\
 , sur réservation\, ouvert à toutes et tous. Réservez vos places dès m
 aintenant ! Crédits photo : ©  Thaïs Blin-Coulle\nhttp://www.agendabul
 le.fr/event/2026/6/17/2418-multimedialpes-festival\nhttps://www.univ-greno
 ble-alpes.fr/actualites/agenda/agenda-culture/multimedi-alpes-festival-174
 7783.kjsp
IMAGE;VALUE=URI:http://www.agendabulle.fr/media/47bf6f7a-f50f-4eb6-934f-bb
 bef7dea4f8.jpg
LOCATION:Amphidice\, 1316 Rue des Résidences\, Saint-Martin-d'Hères
NAME:Multimédi'Alpes / Festival
END:VEVENT
END:VCALENDAR
